BEGIN:VCALENDAR
VERSION:2.0
PRODID:-//Regenboogkerk Epe - ECPv6.15.20//NONSGML v1.0//EN
CALSCALE:GREGORIAN
METHOD:PUBLISH
X-WR-CALNAME:Regenboogkerk Epe
X-ORIGINAL-URL:https://regenboogkerk.nl
X-WR-CALDESC:Evenementen voor Regenboogkerk Epe
REFRESH-INTERVAL;VALUE=DURATION:PT1H
X-Robots-Tag:noindex
X-PUBLISHED-TTL:PT1H
BEGIN:VTIMEZONE
TZID:Europe/Amsterdam
BEGIN:DAYLIGHT
TZOFFSETFROM:+0100
TZOFFSETTO:+0200
TZNAME:CEST
DTSTART:20250330T010000
END:DAYLIGHT
BEGIN:STANDARD
TZOFFSETFROM:+0200
TZOFFSETTO:+0100
TZNAME:CET
DTSTART:20251026T010000
END:STANDARD
BEGIN:DAYLIGHT
TZOFFSETFROM:+0100
TZOFFSETTO:+0200
TZNAME:CEST
DTSTART:20260329T010000
END:DAYLIGHT
BEGIN:STANDARD
TZOFFSETFROM:+0200
TZOFFSETTO:+0100
TZNAME:CET
DTSTART:20261025T010000
END:STANDARD
BEGIN:DAYLIGHT
TZOFFSETFROM:+0100
TZOFFSETTO:+0200
TZNAME:CEST
DTSTART:20270328T010000
END:DAYLIGHT
BEGIN:STANDARD
TZOFFSETFROM:+0200
TZOFFSETTO:+0100
TZNAME:CET
DTSTART:20271031T010000
END:STANDARD
END:VTIMEZONE
BEGIN:VEVENT
DTSTART;VALUE=DATE:20260424
DTEND;VALUE=DATE:20260425
DTSTAMP:20260424T153809
CREATED:20251001T085912Z
LAST-MODIFIED:20251001T085912Z
UID:11123-1776988800-1777075199@regenboogkerk.nl
SUMMARY:Copy inleveren voor het kerkblad Antenne
DESCRIPTION:Copy inleveren voor het kerkblad Antenne.  \nuiterlijk laatste vrijdag v.d. maand
URL:https://regenboogkerk.nl/agenda/copy-inleveren-voor-het-kerkblad-antenne-6/
CATEGORIES:Organisatie
ATTACH;FMTTYPE=image/jpeg:https://regenboogkerk.nl/wp-content/uploads/2021/05/kekrblad-antenne-1.jpg
END:VEVENT
BEGIN:VEVENT
DTSTART;TZID=Europe/Amsterdam:20260426T100000
DTEND;TZID=Europe/Amsterdam:20260426T110000
DTSTAMP:20260424T153809
CREATED:20260222T063741Z
LAST-MODIFIED:20260222T063741Z
UID:11530-1777197600-1777201200@regenboogkerk.nl
SUMMARY:Ochtenddienst
DESCRIPTION:Voorganger: ds. A.M. v.d. Wetering \nWees allen welkom!\nNa de dienst kunnen we elkaar ontmoeten onder het genot van een kopje koffie. \nOok digitaal bijwonen\nDeze kerkdienst is ook live te volgen of terug te kijken via Kerk TV \n 
URL:https://regenboogkerk.nl/agenda/ochtenddienst/
LOCATION:Buurtgebouw Burgerenk\, Klimtuin 46\, Epe\, 8162 ZV
CATEGORIES:Kerkdienst
ATTACH;FMTTYPE=image/jpeg:https://regenboogkerk.nl/wp-content/uploads/2024/07/burgerenk-buurtgebouw.jpg
END:VEVENT
END:VCALENDAR