BEGIN:VCALENDAR
VERSION:2.0
PRODID:-//Regenboogkerk Epe - ECPv6.15.20//NONSGML v1.0//EN
CALSCALE:GREGORIAN
METHOD:PUBLISH
X-WR-CALNAME:Regenboogkerk Epe
X-ORIGINAL-URL:https://regenboogkerk.nl
X-WR-CALDESC:Evenementen voor Regenboogkerk Epe
REFRESH-INTERVAL;VALUE=DURATION:PT1H
X-Robots-Tag:noindex
X-PUBLISHED-TTL:PT1H
BEGIN:VTIMEZONE
TZID:Europe/Amsterdam
BEGIN:DAYLIGHT
TZOFFSETFROM:+0100
TZOFFSETTO:+0200
TZNAME:CEST
DTSTART:20250330T010000
END:DAYLIGHT
BEGIN:STANDARD
TZOFFSETFROM:+0200
TZOFFSETTO:+0100
TZNAME:CET
DTSTART:20251026T010000
END:STANDARD
BEGIN:DAYLIGHT
TZOFFSETFROM:+0100
TZOFFSETTO:+0200
TZNAME:CEST
DTSTART:20260329T010000
END:DAYLIGHT
BEGIN:STANDARD
TZOFFSETFROM:+0200
TZOFFSETTO:+0100
TZNAME:CET
DTSTART:20261025T010000
END:STANDARD
BEGIN:DAYLIGHT
TZOFFSETFROM:+0100
TZOFFSETTO:+0200
TZNAME:CEST
DTSTART:20270328T010000
END:DAYLIGHT
BEGIN:STANDARD
TZOFFSETFROM:+0200
TZOFFSETTO:+0100
TZNAME:CET
DTSTART:20271031T010000
END:STANDARD
END:VTIMEZONE
BEGIN:VEVENT
DTSTART;TZID=Europe/Amsterdam:20260606T110000
DTEND;TZID=Europe/Amsterdam:20260606T230000
DTSTAMP:20260424T173926
CREATED:20260102T221836Z
LAST-MODIFIED:20260102T221836Z
UID:11382-1780743600-1780786800@regenboogkerk.nl
SUMMARY:EO Jongerendag
DESCRIPTION:Zie NF 5 \nEO Jongerendag gaat ook in 2026 weer door! Dit jaar op zaterdag 6 juni in Ahoy Rotterdam. En nog meer goed nieuws: de Happy Bus gaat weer vanuit Epe en jij kan mee\, als jij dat wilt! De bus vertrekt om 11.00u vanuit Epe en we zullen rond 23.00u ’s avonds weer terug zijn. Wil jij met ons meerijden in de bus?
URL:https://regenboogkerk.nl/agenda/eo-jongerendag/
CATEGORIES:Activiteiten
ATTACH;FMTTYPE=image/jpeg:https://regenboogkerk.nl/wp-content/uploads/2022/02/eo-jongerendag-rotterdam-ahoy.jpg
END:VEVENT
BEGIN:VEVENT
DTSTART;TZID=Europe/Amsterdam:20260607T100000
DTEND;TZID=Europe/Amsterdam:20260607T110000
DTSTAMP:20260424T173926
CREATED:20260223T134029Z
LAST-MODIFIED:20260223T134029Z
UID:11554-1780826400-1780830000@regenboogkerk.nl
SUMMARY:Ochtenddienst
DESCRIPTION:Voorganger: Mevr. M. Voogt\, Zwolle \nWees allen welkom!\nNa de dienst kunnen we elkaar ontmoeten onder het genot van een kopje koffie. \nOok digitaal bijwonen\nDeze kerkdienst is ook live te volgen of terug te kijken via Kerk TV \n 
URL:https://regenboogkerk.nl/agenda/ochtenddienst-26/
LOCATION:Buurtgebouw Burgerenk\, Klimtuin 46\, Epe\, 8162 ZV
CATEGORIES:Kerkdienst
ATTACH;FMTTYPE=image/jpeg:https://regenboogkerk.nl/wp-content/uploads/2024/07/burgerenk-buurtgebouw.jpg
END:VEVENT
BEGIN:VEVENT
DTSTART;TZID=Europe/Amsterdam:20260609T194500
DTEND;TZID=Europe/Amsterdam:20260609T220000
DTSTAMP:20260424T173926
CREATED:20260112T134306Z
LAST-MODIFIED:20260112T134306Z
UID:11444-1781034300-1781042400@regenboogkerk.nl
SUMMARY:Kerkenraadsvergadering
DESCRIPTION:Kerkenraadsvergaderingen\, \n2e dinsdag van de maand. \ndinsdag  9 juni \n 
URL:https://regenboogkerk.nl/agenda/kerkenraadsvergadering-6/
LOCATION:Sociaal Lokaal
CATEGORIES:Organisatie
ATTACH;FMTTYPE=image/png:https://regenboogkerk.nl/wp-content/uploads/2024/01/Kerkenraad-regenboog.png
END:VEVENT
BEGIN:VEVENT
DTSTART;TZID=Europe/Amsterdam:20260614T100000
DTEND;TZID=Europe/Amsterdam:20260614T110000
DTSTAMP:20260424T173926
CREATED:20260222T064158Z
LAST-MODIFIED:20260222T064158Z
UID:11541-1781431200-1781434800@regenboogkerk.nl
SUMMARY:Ochtenddienst Heilig Avondmaal\, + muziekteam
DESCRIPTION:Voorganger: ds. A.M. v.d. Wetering \nWees allen welkom!\nNa de dienst kunnen we elkaar ontmoeten onder het genot van een kopje koffie. \nOok digitaal bijwonen\nDeze kerkdienst is ook live te volgen of terug te kijken via Kerk TV \n 
URL:https://regenboogkerk.nl/agenda/ochtenddienst-heilig-avondmaal-muziekteam/
LOCATION:Buurtgebouw Burgerenk\, Klimtuin 46\, Epe\, 8162 ZV
CATEGORIES:Kerkdienst
ATTACH;FMTTYPE=image/jpeg:https://regenboogkerk.nl/wp-content/uploads/2024/07/burgerenk-buurtgebouw.jpg
END:VEVENT
BEGIN:VEVENT
DTSTART;TZID=Europe/Amsterdam:20260614T190000
DTEND;TZID=Europe/Amsterdam:20260614T200000
DTSTAMP:20260424T173926
CREATED:20260223T134452Z
LAST-MODIFIED:20260223T134452Z
UID:11561-1781463600-1781467200@regenboogkerk.nl
SUMMARY:CBD dienst
DESCRIPTION:Voorganger: Jaroah Haumahu
URL:https://regenboogkerk.nl/agenda/cbd-dienst/
LOCATION:Goede Herderkerk Epe\, Enkweg 2\, Epe\, 8162VW\, Nederland
CATEGORIES:Kerkdienst
ATTACH;FMTTYPE=image/png:https://regenboogkerk.nl/wp-content/uploads/2022/07/Goede-Herder-Kerk.png
END:VEVENT
BEGIN:VEVENT
DTSTART;TZID=Europe/Amsterdam:20260621T100000
DTEND;TZID=Europe/Amsterdam:20260621T110000
DTSTAMP:20260424T173926
CREATED:20260222T064035Z
LAST-MODIFIED:20260222T064035Z
UID:11539-1782036000-1782039600@regenboogkerk.nl
SUMMARY:Ochtenddienst
DESCRIPTION:Voorganger: ds. A.M. v.d. Wetering \nWees allen welkom!\nNa de dienst kunnen we elkaar ontmoeten onder het genot van een kopje koffie. \nOok digitaal bijwonen\nDeze kerkdienst is ook live te volgen of terug te kijken via Kerk TV \n 
URL:https://regenboogkerk.nl/agenda/ochtenddienst-23/
LOCATION:Buurtgebouw Burgerenk\, Klimtuin 46\, Epe\, 8162 ZV
CATEGORIES:Kerkdienst
ATTACH;FMTTYPE=image/jpeg:https://regenboogkerk.nl/wp-content/uploads/2024/07/burgerenk-buurtgebouw.jpg
END:VEVENT
BEGIN:VEVENT
DTSTART;VALUE=DATE:20260626
DTEND;VALUE=DATE:20260627
DTSTAMP:20260424T173926
CREATED:20251001T090332Z
LAST-MODIFIED:20251001T090827Z
UID:11130-1782432000-1782518399@regenboogkerk.nl
SUMMARY:Copy inleveren voor het kerkblad Antenne
DESCRIPTION:Copy inleveren voor het kerkblad Antenne. juli en aug. \nuiterlijk laatste vrijdag v.d. maand
URL:https://regenboogkerk.nl/agenda/copy-inleveren-voor-het-kerkblad-antenne-8/
CATEGORIES:Organisatie
ATTACH;FMTTYPE=image/jpeg:https://regenboogkerk.nl/wp-content/uploads/2021/05/kekrblad-antenne-1.jpg
END:VEVENT
BEGIN:VEVENT
DTSTART;TZID=Europe/Amsterdam:20260628T100000
DTEND;TZID=Europe/Amsterdam:20260628T110000
DTSTAMP:20260424T173926
CREATED:20260223T134110Z
LAST-MODIFIED:20260223T134110Z
UID:11556-1782640800-1782644400@regenboogkerk.nl
SUMMARY:Ochtenddienst
DESCRIPTION:Voorganger: Ds. B. Aalbers\, Zwolle \nWees allen welkom!\nNa de dienst kunnen we elkaar ontmoeten onder het genot van een kopje koffie. \nOok digitaal bijwonen\nDeze kerkdienst is ook live te volgen of terug te kijken via Kerk TV \n 
URL:https://regenboogkerk.nl/agenda/ochtenddienst-27/
LOCATION:Buurtgebouw Burgerenk\, Klimtuin 46\, Epe\, 8162 ZV
CATEGORIES:Kerkdienst
ATTACH;FMTTYPE=image/jpeg:https://regenboogkerk.nl/wp-content/uploads/2024/07/burgerenk-buurtgebouw.jpg
END:VEVENT
END:VCALENDAR