BEGIN:VCALENDAR
VERSION:2.0
PRODID:-//Regenboogkerk Epe - ECPv6.15.20//NONSGML v1.0//EN
CALSCALE:GREGORIAN
METHOD:PUBLISH
X-ORIGINAL-URL:https://regenboogkerk.nl
X-WR-CALDESC:Evenementen voor Regenboogkerk Epe
REFRESH-INTERVAL;VALUE=DURATION:PT1H
X-Robots-Tag:noindex
X-PUBLISHED-TTL:PT1H
BEGIN:VTIMEZONE
TZID:Europe/Amsterdam
BEGIN:DAYLIGHT
TZOFFSETFROM:+0100
TZOFFSETTO:+0200
TZNAME:CEST
DTSTART:20250330T010000
END:DAYLIGHT
BEGIN:STANDARD
TZOFFSETFROM:+0200
TZOFFSETTO:+0100
TZNAME:CET
DTSTART:20251026T010000
END:STANDARD
BEGIN:DAYLIGHT
TZOFFSETFROM:+0100
TZOFFSETTO:+0200
TZNAME:CEST
DTSTART:20260329T010000
END:DAYLIGHT
BEGIN:STANDARD
TZOFFSETFROM:+0200
TZOFFSETTO:+0100
TZNAME:CET
DTSTART:20261025T010000
END:STANDARD
BEGIN:DAYLIGHT
TZOFFSETFROM:+0100
TZOFFSETTO:+0200
TZNAME:CEST
DTSTART:20270328T010000
END:DAYLIGHT
BEGIN:STANDARD
TZOFFSETFROM:+0200
TZOFFSETTO:+0100
TZNAME:CET
DTSTART:20271031T010000
END:STANDARD
END:VTIMEZONE
BEGIN:VEVENT
DTSTART;TZID=Europe/Amsterdam:20260503T100000
DTEND;TZID=Europe/Amsterdam:20260503T110000
DTSTAMP:20260424T154211
CREATED:20260222T063823Z
LAST-MODIFIED:20260222T063823Z
UID:11532-1777802400-1777806000@regenboogkerk.nl
SUMMARY:Ochtenddienst
DESCRIPTION:Voorganger: ds. A.M. v.d. Wetering \nWees allen welkom!\nNa de dienst kunnen we elkaar ontmoeten onder het genot van een kopje koffie. \nOok digitaal bijwonen\nDeze kerkdienst is ook live te volgen of terug te kijken via Kerk TV \n 
URL:https://regenboogkerk.nl/agenda/ochtenddienst-2/
LOCATION:Buurtgebouw Burgerenk\, Klimtuin 46\, Epe\, 8162 ZV
CATEGORIES:Kerkdienst
ATTACH;FMTTYPE=image/jpeg:https://regenboogkerk.nl/wp-content/uploads/2024/07/burgerenk-buurtgebouw.jpg
END:VEVENT
BEGIN:VEVENT
DTSTART;TZID=Europe/Amsterdam:20260509T080000
DTEND;TZID=Europe/Amsterdam:20260509T170000
DTSTAMP:20260424T154211
CREATED:20260410T184403Z
LAST-MODIFIED:20260410T184403Z
UID:11620-1778313600-1778346000@regenboogkerk.nl
SUMMARY:Plantenmarkt
DESCRIPTION:Zie NF 19 \nWe sluiten ons actiejaar af met de plantenmarkt op zaterdag 9 mei. \nOok dit jaar is er een ruim aanbod van perkgoed. Vooral de rode geraniums doen het geweldig. Ze zijn bestemd om ze in je tuintje te poten\, niet om er achter te zitten. Je kunt bij mij bestellingen plaatsen.
URL:https://regenboogkerk.nl/agenda/plantenmarkt/
LOCATION:Grote Kerk Epe\, Beekstraat 1A\, Epe\, 8162 HA\, Nederland
CATEGORIES:Activiteiten
ATTACH;FMTTYPE=image/jpeg:https://regenboogkerk.nl/wp-content/uploads/2022/07/Grote-Kerk.jpg
END:VEVENT
BEGIN:VEVENT
DTSTART;TZID=Europe/Amsterdam:20260510T100000
DTEND;TZID=Europe/Amsterdam:20260510T110000
DTSTAMP:20260424T154211
CREATED:20260222T063851Z
LAST-MODIFIED:20260222T063851Z
UID:11534-1778407200-1778410800@regenboogkerk.nl
SUMMARY:Ochtenddienst
DESCRIPTION:Voorganger: ds. A.M. v.d. Wetering \nWees allen welkom!\nNa de dienst kunnen we elkaar ontmoeten onder het genot van een kopje koffie. \nOok digitaal bijwonen\nDeze kerkdienst is ook live te volgen of terug te kijken via Kerk TV \n 
URL:https://regenboogkerk.nl/agenda/ochtenddienst-3/
LOCATION:Buurtgebouw Burgerenk\, Klimtuin 46\, Epe\, 8162 ZV
CATEGORIES:Kerkdienst
ATTACH;FMTTYPE=image/jpeg:https://regenboogkerk.nl/wp-content/uploads/2024/07/burgerenk-buurtgebouw.jpg
END:VEVENT
BEGIN:VEVENT
DTSTART;TZID=Europe/Amsterdam:20260511T194500
DTEND;TZID=Europe/Amsterdam:20260511T220000
DTSTAMP:20260424T154211
CREATED:20260112T134221Z
LAST-MODIFIED:20260417T111147Z
UID:11442-1778528700-1778536800@regenboogkerk.nl
SUMMARY:Kerkenraadsvergadering
DESCRIPTION:Kerkenraadsvergaderingen\, \n2e dinsdag van de maand. \ndinsdag   9 juni \n 
URL:https://regenboogkerk.nl/agenda/kerkenraadsvergadering-5/
LOCATION:Sociaal Lokaal
CATEGORIES:Organisatie
ATTACH;FMTTYPE=image/png:https://regenboogkerk.nl/wp-content/uploads/2024/01/Kerkenraad-regenboog.png
END:VEVENT
BEGIN:VEVENT
DTSTART;TZID=Europe/Amsterdam:20260512T190000
DTEND;TZID=Europe/Amsterdam:20260512T210000
DTSTAMP:20260424T154211
CREATED:20260410T184724Z
LAST-MODIFIED:20260410T184724Z
UID:11622-1778612400-1778619600@regenboogkerk.nl
SUMMARY:gemeenteberaad
DESCRIPTION:gonogo
URL:https://regenboogkerk.nl/agenda/gemeenteberaad/
END:VEVENT
BEGIN:VEVENT
DTSTART;TZID=Europe/Amsterdam:20260513T110000
DTEND;TZID=Europe/Amsterdam:20260513T180000
DTSTAMP:20260424T154211
CREATED:20260417T110740Z
LAST-MODIFIED:20260417T111008Z
UID:11633-1778670000-1778695200@regenboogkerk.nl
SUMMARY:Seniorencontact (60+)
DESCRIPTION:Zie NF 20 \nSeniorencontact (60+)\nDe afsluiter van ons seizoen\nkomt er weer aan:\nop woensdag 13 mei ’26 maken we een uitstapje\nen gaan we eerst gezellig lunchen en daarna\neen uur puur natuur genieten in een (overdekte)\nboot. Misschien spotten we wel een ijsvogel\,\nbever of schildpad in de IJsseluiterwaarden!\nWe verzamelen om\n11u15 bij de Goede\nHerderkerk en rijden\ndan met eigen auto’s\nnaar Hattem.\nU kunt zich nog\naanmelden tot 1 mei\nbij Ella\,\n06-4794 5884\, maar vol=vol!seni
URL:https://regenboogkerk.nl/agenda/11633/
CATEGORIES:Activiteiten
ATTACH;FMTTYPE=image/jpeg:https://regenboogkerk.nl/wp-content/uploads/2022/08/senioren.jpg
END:VEVENT
BEGIN:VEVENT
DTSTART;TZID=Europe/Amsterdam:20260514T100000
DTEND;TZID=Europe/Amsterdam:20260514T110000
DTSTAMP:20260424T154211
CREATED:20260223T135136Z
LAST-MODIFIED:20260223T135226Z
UID:11564-1778752800-1778756400@regenboogkerk.nl
SUMMARY:Hemelvaartsdag
DESCRIPTION:Voorganger: Predikant GHK
URL:https://regenboogkerk.nl/agenda/hemelvaartsdag/
LOCATION:Goede Herderkerk Epe\, Enkweg 2\, Epe\, 8162VW\, Nederland
CATEGORIES:Kerkdienst
ATTACH;FMTTYPE=image/png:https://regenboogkerk.nl/wp-content/uploads/2022/07/Goede-Herder-Kerk.png
END:VEVENT
BEGIN:VEVENT
DTSTART;TZID=Europe/Amsterdam:20260517T100000
DTEND;TZID=Europe/Amsterdam:20260517T110000
DTSTAMP:20260424T154211
CREATED:20260223T133920Z
LAST-MODIFIED:20260223T133920Z
UID:11552-1779012000-1779015600@regenboogkerk.nl
SUMMARY:Ochtenddienst
DESCRIPTION:Voorganger: Ds. L. van Wijk\, Lochem \nWees allen welkom!\nNa de dienst kunnen we elkaar ontmoeten onder het genot van een kopje koffie. \nOok digitaal bijwonen\nDeze kerkdienst is ook live te volgen of terug te kijken via Kerk TV \n 
URL:https://regenboogkerk.nl/agenda/ochtenddienst-25/
LOCATION:Buurtgebouw Burgerenk\, Klimtuin 46\, Epe\, 8162 ZV
CATEGORIES:Kerkdienst
ATTACH;FMTTYPE=image/jpeg:https://regenboogkerk.nl/wp-content/uploads/2024/07/burgerenk-buurtgebouw.jpg
END:VEVENT
BEGIN:VEVENT
DTSTART;TZID=Europe/Amsterdam:20260524T093000
DTEND;TZID=Europe/Amsterdam:20260524T100000
DTSTAMP:20260424T154211
CREATED:20251001T080206Z
LAST-MODIFIED:20251001T080206Z
UID:11091-1779615000-1779616800@regenboogkerk.nl
SUMMARY:Kerk Op Schoot.
DESCRIPTION:Zie NF 42 \nHierbij alle data van Kerk Op Schoot. \n19 april 2026\n24 mei 2026
URL:https://regenboogkerk.nl/agenda/kerk-op-schoot-9/
LOCATION:Buurtgebouw Burgerenk\, Klimtuin 46\, Epe\, 8162 ZV
CATEGORIES:Jeugd,Kerkdienst
ATTACH;FMTTYPE=image/jpeg:https://regenboogkerk.nl/wp-content/uploads/2022/09/Kerk-op-schoot.jpg
END:VEVENT
BEGIN:VEVENT
DTSTART;TZID=Europe/Amsterdam:20260524T100000
DTEND;TZID=Europe/Amsterdam:20260524T110000
DTSTAMP:20260424T154211
CREATED:20260222T064257Z
LAST-MODIFIED:20260222T064257Z
UID:11543-1779616800-1779620400@regenboogkerk.nl
SUMMARY:Ochtenddienst 1e Pinksterdag
DESCRIPTION:Voorganger: ds. A.M. v.d. Wetering \nWees allen welkom!\nNa de dienst kunnen we elkaar ontmoeten onder het genot van een kopje koffie. \nOok digitaal bijwonen\nDeze kerkdienst is ook live te volgen of terug te kijken via Kerk TV \n 
URL:https://regenboogkerk.nl/agenda/ochtenddienst-1e-pinksterdag/
LOCATION:Buurtgebouw Burgerenk\, Klimtuin 46\, Epe\, 8162 ZV
CATEGORIES:Kerkdienst
ATTACH;FMTTYPE=image/jpeg:https://regenboogkerk.nl/wp-content/uploads/2024/07/burgerenk-buurtgebouw.jpg
END:VEVENT
BEGIN:VEVENT
DTSTART;VALUE=DATE:20260529
DTEND;VALUE=DATE:20260530
DTSTAMP:20260424T154211
CREATED:20251001T085940Z
LAST-MODIFIED:20251001T090713Z
UID:11125-1780012800-1780099199@regenboogkerk.nl
SUMMARY:Copy inleveren voor het kerkblad Antenne
DESCRIPTION:Copy inleveren voor het kerkblad Antenne.  \nuiterlijk laatste vrijdag v.d. maand
URL:https://regenboogkerk.nl/agenda/copy-inleveren-voor-het-kerkblad-antenne-7/
CATEGORIES:Organisatie
ATTACH;FMTTYPE=image/jpeg:https://regenboogkerk.nl/wp-content/uploads/2021/05/kekrblad-antenne-1.jpg
END:VEVENT
BEGIN:VEVENT
DTSTART;TZID=Europe/Amsterdam:20260531T100000
DTEND;TZID=Europe/Amsterdam:20260531T110000
DTSTAMP:20260424T154211
CREATED:20260110T095745Z
LAST-MODIFIED:20260110T095745Z
UID:11426-1780221600-1780225200@regenboogkerk.nl
SUMMARY:Kinderdienst XL
DESCRIPTION:Zie NF 6 \nKinderdienst XL\nAfgelopen september zijn we gestart met Kinderdienst XL.\nDe eerste drie keer waren een groot succes.\nDaarom gaan we ook dit jaar door!\nDus zet alvast de volgende data in je agenda:\n•\n1 februari\n•\n15 maart\n•\n19 april\n•\n31 mei
URL:https://regenboogkerk.nl/agenda/kinderdienst-xl-2/
LOCATION:K.Norelschool
CATEGORIES:Jeugd,Kerkdienst
ATTACH;FMTTYPE=image/jpeg:https://regenboogkerk.nl/wp-content/uploads/2024/04/kind-en-muziek.jpeg
END:VEVENT
BEGIN:VEVENT
DTSTART;TZID=Europe/Amsterdam:20260531T100000
DTEND;TZID=Europe/Amsterdam:20260531T110000
DTSTAMP:20260424T154211
CREATED:20260222T063954Z
LAST-MODIFIED:20260222T063954Z
UID:11537-1780221600-1780225200@regenboogkerk.nl
SUMMARY:Ochtenddienst
DESCRIPTION:Voorganger: ds. A.M. v.d. Wetering \nWees allen welkom!\nNa de dienst kunnen we elkaar ontmoeten onder het genot van een kopje koffie. \nOok digitaal bijwonen\nDeze kerkdienst is ook live te volgen of terug te kijken via Kerk TV \n 
URL:https://regenboogkerk.nl/agenda/ochtenddienst-22/
LOCATION:Buurtgebouw Burgerenk\, Klimtuin 46\, Epe\, 8162 ZV
CATEGORIES:Kerkdienst
ATTACH;FMTTYPE=image/jpeg:https://regenboogkerk.nl/wp-content/uploads/2024/07/burgerenk-buurtgebouw.jpg
END:VEVENT
END:VCALENDAR