BEGIN:VCALENDAR
VERSION:2.0
PRODID:-//Regenboogkerk Epe - ECPv6.15.20//NONSGML v1.0//EN
CALSCALE:GREGORIAN
METHOD:PUBLISH
X-WR-CALNAME:Regenboogkerk Epe
X-ORIGINAL-URL:https://regenboogkerk.nl
X-WR-CALDESC:Evenementen voor Regenboogkerk Epe
REFRESH-INTERVAL;VALUE=DURATION:PT1H
X-Robots-Tag:noindex
X-PUBLISHED-TTL:PT1H
BEGIN:VTIMEZONE
TZID:Europe/Amsterdam
BEGIN:DAYLIGHT
TZOFFSETFROM:+0100
TZOFFSETTO:+0200
TZNAME:CEST
DTSTART:20250330T010000
END:DAYLIGHT
BEGIN:STANDARD
TZOFFSETFROM:+0200
TZOFFSETTO:+0100
TZNAME:CET
DTSTART:20251026T010000
END:STANDARD
BEGIN:DAYLIGHT
TZOFFSETFROM:+0100
TZOFFSETTO:+0200
TZNAME:CEST
DTSTART:20260329T010000
END:DAYLIGHT
BEGIN:STANDARD
TZOFFSETFROM:+0200
TZOFFSETTO:+0100
TZNAME:CET
DTSTART:20261025T010000
END:STANDARD
BEGIN:DAYLIGHT
TZOFFSETFROM:+0100
TZOFFSETTO:+0200
TZNAME:CEST
DTSTART:20270328T010000
END:DAYLIGHT
BEGIN:STANDARD
TZOFFSETFROM:+0200
TZOFFSETTO:+0100
TZNAME:CET
DTSTART:20271031T010000
END:STANDARD
END:VTIMEZONE
BEGIN:VEVENT
DTSTART;TZID=Europe/Amsterdam:20260301T100000
DTEND;TZID=Europe/Amsterdam:20260301T110000
DTSTAMP:20260424T154145
CREATED:20251123T122043Z
LAST-MODIFIED:20251123T122043Z
UID:11271-1772359200-1772362800@regenboogkerk.nl
SUMMARY:Ochtenddienst
DESCRIPTION:Voorganger: ds. A.M. v.d. Wetering \nWees allen welkom!\nNa de dienst kunnen we elkaar ontmoeten onder het genot van een kopje koffie. \nOok digitaal bijwonen\nDeze kerkdienst is ook live te volgen of terug te kijken via Kerk TV \n 
URL:https://regenboogkerk.nl/agenda/ochtenddienst-15/
LOCATION:Buurtgebouw Burgerenk\, Klimtuin 46\, Epe\, 8162 ZV
CATEGORIES:Kerkdienst
ATTACH;FMTTYPE=image/jpeg:https://regenboogkerk.nl/wp-content/uploads/2024/07/burgerenk-buurtgebouw.jpg
END:VEVENT
BEGIN:VEVENT
DTSTART;TZID=Europe/Amsterdam:20260304T100000
DTEND;TZID=Europe/Amsterdam:20260304T110000
DTSTAMP:20260424T154145
CREATED:20251123T130026Z
LAST-MODIFIED:20251123T130026Z
UID:11310-1772618400-1772622000@regenboogkerk.nl
SUMMARY:Koffie Drinken
DESCRIPTION:  \nBeste koffiedrinkers\,\nIedere woensdag van 10 tot 11 uur\nin het Sociaal Lokaal.\nZomaar gezellig bij elkaar met een kopje koffie. \nTot woensdag \nGroeten\, het kosters team\nContact:  06 810 73 087
URL:https://regenboogkerk.nl/agenda/koffie-drinken-12/
CATEGORIES:Activiteiten
ATTACH;FMTTYPE=image/png:https://regenboogkerk.nl/wp-content/uploads/2025/08/Sociaal-lokaal.png
END:VEVENT
BEGIN:VEVENT
DTSTART;TZID=Europe/Amsterdam:20260308T100000
DTEND;TZID=Europe/Amsterdam:20260308T110000
DTSTAMP:20260424T154145
CREATED:20251123T122112Z
LAST-MODIFIED:20251123T122112Z
UID:11273-1772964000-1772967600@regenboogkerk.nl
SUMMARY:Ochtenddienst
DESCRIPTION:Voorganger: ds. A.M. v.d. Wetering \nWees allen welkom!\nNa de dienst kunnen we elkaar ontmoeten onder het genot van een kopje koffie. \nOok digitaal bijwonen\nDeze kerkdienst is ook live te volgen of terug te kijken via Kerk TV \n 
URL:https://regenboogkerk.nl/agenda/ochtenddienst-16/
LOCATION:Buurtgebouw Burgerenk\, Klimtuin 46\, Epe\, 8162 ZV
CATEGORIES:Kerkdienst
ATTACH;FMTTYPE=image/jpeg:https://regenboogkerk.nl/wp-content/uploads/2024/07/burgerenk-buurtgebouw.jpg
END:VEVENT
BEGIN:VEVENT
DTSTART;TZID=Europe/Amsterdam:20260308T140000
DTEND;TZID=Europe/Amsterdam:20260308T153000
DTSTAMP:20260424T154145
CREATED:20260227T180856Z
LAST-MODIFIED:20260227T180856Z
UID:11569-1772978400-1772983800@regenboogkerk.nl
SUMMARY:Regenboogwandeling
DESCRIPTION:zie NF 13 \nRegenboogwandelling\nZondagmiddag 8 Maart gaan we weer op stap. We beginnen de wandeling op dezelfde plek als in februari. \nOm 14.00 uur op de parkeerplaats van het Natuurhotel De Witte Berken aan de Oost Ravenweg 8 in Epe.
URL:https://regenboogkerk.nl/agenda/regenboogwandeling/
CATEGORIES:Activiteiten
ATTACH;FMTTYPE=image/jpeg:https://regenboogkerk.nl/wp-content/uploads/2022/07/Regenboog-wandeling.jpg
END:VEVENT
BEGIN:VEVENT
DTSTART;TZID=Europe/Amsterdam:20260308T190000
DTEND;TZID=Europe/Amsterdam:20260308T200000
DTSTAMP:20260424T154145
CREATED:20251123T123757Z
LAST-MODIFIED:20251123T123757Z
UID:11292-1772996400-1773000000@regenboogkerk.nl
SUMMARY:CBD dienst m.m.v. Joyfulsound Kampen
DESCRIPTION:Voorganger: ds. H. ter Beek
URL:https://regenboogkerk.nl/agenda/cbd-dienst-m-m-v-joyfulsound-kampen/
LOCATION:Goede Herderkerk Epe\, Enkweg 2\, Epe\, 8162VW\, Nederland
CATEGORIES:Kerkdienst
ATTACH;FMTTYPE=image/png:https://regenboogkerk.nl/wp-content/uploads/2022/07/Goede-Herder-Kerk.png
END:VEVENT
BEGIN:VEVENT
DTSTART;TZID=Europe/Amsterdam:20260310T143000
DTEND;TZID=Europe/Amsterdam:20260310T153000
DTSTAMP:20260424T154145
CREATED:20260306T131251Z
LAST-MODIFIED:20260306T131251Z
UID:11589-1773153000-1773156600@regenboogkerk.nl
SUMMARY:Zangmiddag voor ouderen
DESCRIPTION:Zie NF 14 \nZangmiddag voor ouderen – Grote Kerk Epe\nSamen zingen verbindt! En zo willen we met\nbewoners van De Boskamp tijdens de veertig\ndagentijd ons voorbereiden op Pasen.\nOp dinsdagmiddag 10 maart zijn ook ouderen uit\nEpe van harte welkom voor een zangmiddag in\nde Grote Kerk in Epe (Beekstraat 1a\,\ntoreningang). We beginnen om 14.30 uur. Er zal\neen koor van bewoners van De Boskamp enkele\nliederen zingen onder leiding van Zwier van der\nWeerd. Er is ruimte voor liederen op verzoek.
URL:https://regenboogkerk.nl/agenda/zangmiddag-voor-ouderen/
LOCATION:Grote Kerk Epe\, Beekstraat 1A\, Epe\, 8162 HA\, Nederland
CATEGORIES:Activiteiten
ATTACH;FMTTYPE=image/jpeg:https://regenboogkerk.nl/wp-content/uploads/2022/07/Grote-Kerk.jpg
END:VEVENT
BEGIN:VEVENT
DTSTART;TZID=Europe/Amsterdam:20260310T193000
DTEND;TZID=Europe/Amsterdam:20260310T210000
DTSTAMP:20260424T154145
CREATED:20260306T131641Z
LAST-MODIFIED:20260306T131641Z
UID:11592-1773171000-1773176400@regenboogkerk.nl
SUMMARY:Zin en Kleur
DESCRIPTION:Zie NF 14 \nDeze Avond met Zin en Kleur wordt dinsdag 10\nmaart gehouden in de Grote Kerk\, Beekstraat 1A\,\nEpe.
URL:https://regenboogkerk.nl/agenda/zin-en-kleur-2/
CATEGORIES:Activiteiten
ATTACH;FMTTYPE=image/jpeg:https://regenboogkerk.nl/wp-content/uploads/2022/07/Grote-Kerk.jpg
END:VEVENT
BEGIN:VEVENT
DTSTART;TZID=Europe/Amsterdam:20260310T194500
DTEND;TZID=Europe/Amsterdam:20260310T220000
DTSTAMP:20260424T154145
CREATED:20260112T134139Z
LAST-MODIFIED:20260112T134139Z
UID:11438-1773171900-1773180000@regenboogkerk.nl
SUMMARY:Kerkenraadsvergadering
DESCRIPTION:Kerkenraadsvergaderingen\, \n2e dinsdag van de maand. \ndinsdag 14 april\, 12 mei\, 9 juni \n 
URL:https://regenboogkerk.nl/agenda/kerkenraadsvergadering-3/
LOCATION:Sociaal Lokaal
CATEGORIES:Organisatie
ATTACH;FMTTYPE=image/png:https://regenboogkerk.nl/wp-content/uploads/2024/01/Kerkenraad-regenboog.png
END:VEVENT
BEGIN:VEVENT
DTSTART;TZID=Europe/Amsterdam:20260311T100000
DTEND;TZID=Europe/Amsterdam:20260311T110000
DTSTAMP:20260424T154145
CREATED:20260202T080754Z
LAST-MODIFIED:20260202T080754Z
UID:11470-1773223200-1773226800@regenboogkerk.nl
SUMMARY:Koffie Drinken
DESCRIPTION:  \nBeste koffiedrinkers\,\nIedere woensdag van 10 tot 11 uur\nin het Sociaal Lokaal.\nZomaar gezellig bij elkaar met een kopje koffie. \nTot woensdag \nGroeten\, het kosters team\nContact:  06 810 73 087
URL:https://regenboogkerk.nl/agenda/koffie-drinken-18/
CATEGORIES:Activiteiten
ATTACH;FMTTYPE=image/png:https://regenboogkerk.nl/wp-content/uploads/2025/08/Sociaal-lokaal.png
END:VEVENT
BEGIN:VEVENT
DTSTART;TZID=Europe/Amsterdam:20260311T143000
DTEND;TZID=Europe/Amsterdam:20260311T170000
DTSTAMP:20260424T154145
CREATED:20260110T095244Z
LAST-MODIFIED:20260110T095244Z
UID:11413-1773239400-1773248400@regenboogkerk.nl
SUMMARY:Seniorencontact
DESCRIPTION:Zie NF 6 \nSeniorencontact\nFijn om elkaar weer te ontmoeten in 2026\nen dat kan op;\n*woensdag 14 januari Cees Wittekoek\nWat heeft Piet Hein voor ons land betekend?\n*woensdag 11 februari Theo Somsen\nStripfiguren\n*woensdag 11 maart Piet van Oosten\n(onder voorbehoud)\nLanding D-day door Canadees leger 1944\n*woensdag 1 april Paaslunch\n*woensdag 13 mei uitstapje\nVoel u welkom in de Goede Herderkerk\nom 14u30!\nWarme groet\, Ella\, Sita en Helga
URL:https://regenboogkerk.nl/agenda/seniorencontact-3/
LOCATION:Goede Herderkerk Epe\, Enkweg 2\, Epe\, 8162VW\, Nederland
CATEGORIES:Activiteiten
ATTACH;FMTTYPE=image/jpeg:https://regenboogkerk.nl/wp-content/uploads/2022/08/senioren.jpg
END:VEVENT
BEGIN:VEVENT
DTSTART;TZID=Europe/Amsterdam:20260311T193000
DTEND;TZID=Europe/Amsterdam:20260311T203000
DTSTAMP:20260424T154145
CREATED:20251123T122446Z
LAST-MODIFIED:20251123T122446Z
UID:11279-1773257400-1773261000@regenboogkerk.nl
SUMMARY:Avonddienst biddag
DESCRIPTION:Voorganger: ds. A.M. v.d. Wetering \nWees allen welkom!\nNa de dienst kunnen we elkaar ontmoeten onder het genot van een kopje koffie. \nOok digitaal bijwonen\nDeze kerkdienst is ook live te volgen of terug te kijken via Kerk TV \n 
URL:https://regenboogkerk.nl/agenda/avonddienst-biddag/
LOCATION:Buurtgebouw Burgerenk\, Klimtuin 46\, Epe\, 8162 ZV
CATEGORIES:Kerkdienst
ATTACH;FMTTYPE=image/jpeg:https://regenboogkerk.nl/wp-content/uploads/2024/07/burgerenk-buurtgebouw.jpg
END:VEVENT
BEGIN:VEVENT
DTSTART;TZID=Europe/Amsterdam:20260312T190000
DTEND;TZID=Europe/Amsterdam:20260312T193000
DTSTAMP:20260424T154145
CREATED:20260213T132119Z
LAST-MODIFIED:20260306T131823Z
UID:11499-1773342000-1773343800@regenboogkerk.nl
SUMMARY:Bidden voor de kerk. Gebedsgroep
DESCRIPTION:Zie NF 11 en 14 \nWil je ook eens meedoen? Dat kan: 12 maart komen we weer bij elkaar van 19-20 uur. Locatie volgt in kerkapp en Nieuwsflits.
URL:https://regenboogkerk.nl/agenda/bidden-voor-de-kerk-gebedsgroep/
CATEGORIES:Bezinning
ATTACH;FMTTYPE=image/jpeg:https://regenboogkerk.nl/wp-content/uploads/2024/08/gebed-1.jpeg
END:VEVENT
BEGIN:VEVENT
DTSTART;TZID=Europe/Amsterdam:20260315T100000
DTEND;TZID=Europe/Amsterdam:20260315T110000
DTSTAMP:20260424T154145
CREATED:20251123T123044Z
LAST-MODIFIED:20251123T123044Z
UID:11285-1773568800-1773572400@regenboogkerk.nl
SUMMARY:Ochtenddienst
DESCRIPTION:Voorganger: ds. A. Priem\, Ermelo \nWees allen welkom!\nNa de dienst kunnen we elkaar ontmoeten onder het genot van een kopje koffie. \nOok digitaal bijwonen\nDeze kerkdienst is ook live te volgen of terug te kijken via Kerk TV \n 
URL:https://regenboogkerk.nl/agenda/ochtenddienst-21/
LOCATION:Buurtgebouw Burgerenk\, Klimtuin 46\, Epe\, 8162 ZV
CATEGORIES:Kerkdienst
ATTACH;FMTTYPE=image/jpeg:https://regenboogkerk.nl/wp-content/uploads/2024/07/burgerenk-buurtgebouw.jpg
END:VEVENT
BEGIN:VEVENT
DTSTART;TZID=Europe/Amsterdam:20260315T100000
DTEND;TZID=Europe/Amsterdam:20260315T110000
DTSTAMP:20260424T154145
CREATED:20260110T095651Z
LAST-MODIFIED:20260110T095709Z
UID:11421-1773568800-1773572400@regenboogkerk.nl
SUMMARY:Kinderdienst XL
DESCRIPTION:Zie NF 6 \nKinderdienst XL\nAfgelopen september zijn we gestart met Kinderdienst XL.\nDe eerste drie keer waren een groot succes.\nDaarom gaan we ook dit jaar door!\nDus zet alvast de volgende data in je agenda:\n•\n1 februari\n•\n15 maart\n•\n19 april\n•\n31 mei
URL:https://regenboogkerk.nl/agenda/11421/
LOCATION:K.Norelschool
CATEGORIES:Jeugd,Kerkdienst
ATTACH;FMTTYPE=image/jpeg:https://regenboogkerk.nl/wp-content/uploads/2024/04/kind-en-muziek.jpeg
END:VEVENT
BEGIN:VEVENT
DTSTART;TZID=Europe/Amsterdam:20260315T190000
DTEND;TZID=Europe/Amsterdam:20260315T193000
DTSTAMP:20260424T154145
CREATED:20251123T124154Z
LAST-MODIFIED:20260222T060034Z
UID:11294-1773601200-1773603000@regenboogkerk.nl
SUMMARY:Oecumenische Taizé viering
DESCRIPTION:Een Oecumenische Taizé viering in de Grote Kerk Epe.\nuitgaande van de Grote Kerk\, Regenboogkerk en RK-geloofsgemeenschap H. Martinus Epe/Heerde.\nMet vriendelijke groet\,\nNamens de Taizé werkgroep
URL:https://regenboogkerk.nl/agenda/oecumenische-taize-viering/
LOCATION:Grote Kerk Epe\, Beekstraat 1A\, Epe\, 8162 HA\, Nederland
CATEGORIES:Bezinning,Kerkdienst
ATTACH;FMTTYPE=image/jpeg:https://regenboogkerk.nl/wp-content/uploads/2023/09/Taizekruis.jpg
END:VEVENT
BEGIN:VEVENT
DTSTART;TZID=Europe/Amsterdam:20260318T100000
DTEND;TZID=Europe/Amsterdam:20260318T110000
DTSTAMP:20260424T154145
CREATED:20260202T080804Z
LAST-MODIFIED:20260202T080804Z
UID:11472-1773828000-1773831600@regenboogkerk.nl
SUMMARY:Koffie Drinken
DESCRIPTION:  \nBeste koffiedrinkers\,\nIedere woensdag van 10 tot 11 uur\nin het Sociaal Lokaal.\nZomaar gezellig bij elkaar met een kopje koffie. \nTot woensdag \nGroeten\, het kosters team\nContact:  06 810 73 087
URL:https://regenboogkerk.nl/agenda/koffie-drinken-19/
CATEGORIES:Activiteiten
ATTACH;FMTTYPE=image/png:https://regenboogkerk.nl/wp-content/uploads/2025/08/Sociaal-lokaal.png
END:VEVENT
BEGIN:VEVENT
DTSTART;TZID=Europe/Amsterdam:20260322T100000
DTEND;TZID=Europe/Amsterdam:20260322T110000
DTSTAMP:20260424T154145
CREATED:20251123T122142Z
LAST-MODIFIED:20251123T122142Z
UID:11275-1774173600-1774177200@regenboogkerk.nl
SUMMARY:Ochtenddienst
DESCRIPTION:Voorganger: ds. A.M. v.d. Wetering \nWees allen welkom!\nNa de dienst kunnen we elkaar ontmoeten onder het genot van een kopje koffie. \nOok digitaal bijwonen\nDeze kerkdienst is ook live te volgen of terug te kijken via Kerk TV \n 
URL:https://regenboogkerk.nl/agenda/ochtenddienst-17/
LOCATION:Buurtgebouw Burgerenk\, Klimtuin 46\, Epe\, 8162 ZV
CATEGORIES:Kerkdienst
ATTACH;FMTTYPE=image/jpeg:https://regenboogkerk.nl/wp-content/uploads/2024/07/burgerenk-buurtgebouw.jpg
END:VEVENT
BEGIN:VEVENT
DTSTART;TZID=Europe/Amsterdam:20260325T100000
DTEND;TZID=Europe/Amsterdam:20260325T110000
DTSTAMP:20260424T154145
CREATED:20260202T080823Z
LAST-MODIFIED:20260202T080823Z
UID:11474-1774432800-1774436400@regenboogkerk.nl
SUMMARY:Koffie Drinken
DESCRIPTION:  \nBeste koffiedrinkers\,\nIedere woensdag van 10 tot 11 uur\nin het Sociaal Lokaal.\nZomaar gezellig bij elkaar met een kopje koffie. \nTot woensdag \nGroeten\, het kosters team\nContact:  06 810 73 087
URL:https://regenboogkerk.nl/agenda/koffie-drinken-20/
CATEGORIES:Activiteiten
ATTACH;FMTTYPE=image/png:https://regenboogkerk.nl/wp-content/uploads/2025/08/Sociaal-lokaal.png
END:VEVENT
BEGIN:VEVENT
DTSTART;VALUE=DATE:20260327
DTEND;VALUE=DATE:20260328
DTSTAMP:20260424T154145
CREATED:20251001T085848Z
LAST-MODIFIED:20251001T085848Z
UID:11121-1774569600-1774655999@regenboogkerk.nl
SUMMARY:Copy inleveren voor het kerkblad Antenne
DESCRIPTION:Copy inleveren voor het kerkblad Antenne.  \nuiterlijk laatste vrijdag v.d. maand
URL:https://regenboogkerk.nl/agenda/copy-inleveren-voor-het-kerkblad-antenne-5/
CATEGORIES:Organisatie
ATTACH;FMTTYPE=image/jpeg:https://regenboogkerk.nl/wp-content/uploads/2021/05/kekrblad-antenne-1.jpg
END:VEVENT
BEGIN:VEVENT
DTSTART;TZID=Europe/Amsterdam:20260328T100000
DTEND;TZID=Europe/Amsterdam:20260328T143000
DTSTAMP:20260424T154145
CREATED:20260327T175553Z
LAST-MODIFIED:20260327T175553Z
UID:11602-1774692000-1774708200@regenboogkerk.nl
SUMMARY:Verkoop Paasstukken en Oliebollen
DESCRIPTION:Zie NF 17 \nVerkoop Paasstukken en Oliebollen\nzaterdag 28 maart\,\n10.00 tot 14.30 uur\nbij de Grote Kerk in Epe\nDe
URL:https://regenboogkerk.nl/agenda/verkoop-paasstukken-en-oliebollen/
CATEGORIES:Activiteiten
ATTACH;FMTTYPE=image/jpeg:https://regenboogkerk.nl/wp-content/uploads/2022/04/pasen-vier-je-samen.jpg
END:VEVENT
BEGIN:VEVENT
DTSTART;TZID=Europe/Amsterdam:20260329T093000
DTEND;TZID=Europe/Amsterdam:20260329T100000
DTSTAMP:20260424T154145
CREATED:20251001T080046Z
LAST-MODIFIED:20260214T205031Z
UID:11087-1774776600-1774778400@regenboogkerk.nl
SUMMARY:Kerk Op Schoot.
DESCRIPTION:Zie NF 42 \nHierbij alle data van Kerk Op Schoot.\n18 januari 2026\n15 februari 2026\n22 maart 2026 verplaatst naar 29 maart\n19 april 2026\n24 mei 2026
URL:https://regenboogkerk.nl/agenda/kerk-op-schoot-7/
LOCATION:Buurtgebouw Burgerenk\, Klimtuin 46\, Epe\, 8162 ZV
CATEGORIES:Jeugd,Kerkdienst
ATTACH;FMTTYPE=image/jpeg:https://regenboogkerk.nl/wp-content/uploads/2022/09/Kerk-op-schoot.jpg
END:VEVENT
BEGIN:VEVENT
DTSTART;TZID=Europe/Amsterdam:20260329T100000
DTEND;TZID=Europe/Amsterdam:20260329T110000
DTSTAMP:20260424T154145
CREATED:20251123T122218Z
LAST-MODIFIED:20251123T124244Z
UID:11277-1774778400-1774782000@regenboogkerk.nl
SUMMARY:Ochtenddienst Palmpasen
DESCRIPTION:Voorganger: ds. A.M. v.d. Wetering \nWees allen welkom!\nNa de dienst kunnen we elkaar ontmoeten onder het genot van een kopje koffie. \nOok digitaal bijwonen\nDeze kerkdienst is ook live te volgen of terug te kijken via Kerk TV \n 
URL:https://regenboogkerk.nl/agenda/ochtenddienst-18/
LOCATION:Buurtgebouw Burgerenk\, Klimtuin 46\, Epe\, 8162 ZV
CATEGORIES:Kerkdienst
ATTACH;FMTTYPE=image/jpeg:https://regenboogkerk.nl/wp-content/uploads/2024/07/burgerenk-buurtgebouw.jpg
END:VEVENT
BEGIN:VEVENT
DTSTART;TZID=Europe/Amsterdam:20260329T160000
DTEND;TZID=Europe/Amsterdam:20260329T170000
DTSTAMP:20260424T154145
CREATED:20260306T132143Z
LAST-MODIFIED:20260306T132143Z
UID:11596-1774800000-1774803600@regenboogkerk.nl
SUMMARY:Passieconcert Exspecto
DESCRIPTION:Zie NF 14 \nZondag 29 maart 16.00 uur | Passieconcert |ex\nExspecto | Grote Kerk Epe\nAan het begin van de Stille Week\, voert het koor\nExspecto het Engelstalige passiestuk The\nCrucifixion van componist John Stainer uit.\nDit oratorium vertelt het Bijbelse verhaal van het\nlijden en de kruisiging van Jezus Christus.\nTijdens het stuk nemen we u mee op de reis die\nbegint als Jezus met zijn discipelen aankomt bij\nde hof van Gethsemané.\nDaarna volgt de arrestatie\, het verhoor en de\nveroordeling met de kruisdood. Het oratorium\neindigt met een verheven loflied van hoop ‘All\nfor Jesus’.\nMedewerking wordt verleend door solisten Jaa
URL:https://regenboogkerk.nl/agenda/passieconcert-exspecto/
LOCATION:Grote Kerk Epe\, Beekstraat 1A\, Epe\, 8162 HA\, Nederland
ATTACH;FMTTYPE=image/jpeg:https://regenboogkerk.nl/wp-content/uploads/2022/07/Grote-Kerk.jpg
END:VEVENT
BEGIN:VEVENT
DTSTART;TZID=Europe/Amsterdam:20260330T190000
DTEND;TZID=Europe/Amsterdam:20260330T193000
DTSTAMP:20260424T154145
CREATED:20260302T101741Z
LAST-MODIFIED:20260302T101741Z
UID:11575-1774897200-1774899000@regenboogkerk.nl
SUMMARY:gebedswakes in stille week
DESCRIPTION:  \n  \n 
URL:https://regenboogkerk.nl/agenda/gebedswakes-in-stille-week-4/
LOCATION:Grote Kerk Epe\, Beekstraat 1A\, Epe\, 8162 HA\, Nederland
CATEGORIES:Kerkdienst
ATTACH;FMTTYPE=image/jpeg:https://regenboogkerk.nl/wp-content/uploads/2022/07/Grote-Kerk.jpg
END:VEVENT
BEGIN:VEVENT
DTSTART;TZID=Europe/Amsterdam:20260331T190000
DTEND;TZID=Europe/Amsterdam:20260331T193000
DTSTAMP:20260424T154145
CREATED:20260222T060639Z
LAST-MODIFIED:20260302T101853Z
UID:11509-1774983600-1774985400@regenboogkerk.nl
SUMMARY:gebedswakes in stille week
DESCRIPTION:  \n  \n 
URL:https://regenboogkerk.nl/agenda/gebedswakes-in-stille-week/
LOCATION:Grote Kerk Epe\, Beekstraat 1A\, Epe\, 8162 HA\, Nederland
CATEGORIES:Kerkdienst
ATTACH;FMTTYPE=image/jpeg:https://regenboogkerk.nl/wp-content/uploads/2022/07/Grote-Kerk.jpg
END:VEVENT
END:VCALENDAR