BEGIN:VCALENDAR
VERSION:2.0
PRODID:-//Regenboogkerk Epe - ECPv6.15.20//NONSGML v1.0//EN
CALSCALE:GREGORIAN
METHOD:PUBLISH
X-WR-CALNAME:Regenboogkerk Epe
X-ORIGINAL-URL:https://regenboogkerk.nl
X-WR-CALDESC:Evenementen voor Regenboogkerk Epe
REFRESH-INTERVAL;VALUE=DURATION:PT1H
X-Robots-Tag:noindex
X-PUBLISHED-TTL:PT1H
BEGIN:VTIMEZONE
TZID:Europe/Amsterdam
BEGIN:DAYLIGHT
TZOFFSETFROM:+0100
TZOFFSETTO:+0200
TZNAME:CEST
DTSTART:20250330T010000
END:DAYLIGHT
BEGIN:STANDARD
TZOFFSETFROM:+0200
TZOFFSETTO:+0100
TZNAME:CET
DTSTART:20251026T010000
END:STANDARD
BEGIN:DAYLIGHT
TZOFFSETFROM:+0100
TZOFFSETTO:+0200
TZNAME:CEST
DTSTART:20260329T010000
END:DAYLIGHT
BEGIN:STANDARD
TZOFFSETFROM:+0200
TZOFFSETTO:+0100
TZNAME:CET
DTSTART:20261025T010000
END:STANDARD
BEGIN:DAYLIGHT
TZOFFSETFROM:+0100
TZOFFSETTO:+0200
TZNAME:CEST
DTSTART:20270328T010000
END:DAYLIGHT
BEGIN:STANDARD
TZOFFSETFROM:+0200
TZOFFSETTO:+0100
TZNAME:CET
DTSTART:20271031T010000
END:STANDARD
END:VTIMEZONE
BEGIN:VEVENT
DTSTART;TZID=Europe/Amsterdam:20260201T100000
DTEND;TZID=Europe/Amsterdam:20260201T110000
DTSTAMP:20260424T173927
CREATED:20251123T121739Z
LAST-MODIFIED:20251123T121739Z
UID:11263-1769940000-1769943600@regenboogkerk.nl
SUMMARY:Ochtenddienst
DESCRIPTION:Voorganger: ds. A.M. v.d. Wetering \nWees allen welkom!\nNa de dienst kunnen we elkaar ontmoeten onder het genot van een kopje koffie. \nOok digitaal bijwonen\nDeze kerkdienst is ook live te volgen of terug te kijken via Kerk TV \n 
URL:https://regenboogkerk.nl/agenda/ochtenddienst-12/
LOCATION:Buurtgebouw Burgerenk\, Klimtuin 46\, Epe\, 8162 ZV
CATEGORIES:Kerkdienst
ATTACH;FMTTYPE=image/jpeg:https://regenboogkerk.nl/wp-content/uploads/2024/07/burgerenk-buurtgebouw.jpg
END:VEVENT
BEGIN:VEVENT
DTSTART;TZID=Europe/Amsterdam:20260201T100000
DTEND;TZID=Europe/Amsterdam:20260201T110000
DTSTAMP:20260424T173927
CREATED:20260110T095628Z
LAST-MODIFIED:20260110T095628Z
UID:11419-1769940000-1769943600@regenboogkerk.nl
SUMMARY:
DESCRIPTION:Zie NF 6 \nKinderdienst XL\nAfgelopen september zijn we gestart met Kinderdienst XL.\nDe eerste drie keer waren een groot succes.\nDaarom gaan we ook dit jaar door!\nDus zet alvast de volgende data in je agenda:\n•\n1 februari\n•\n15 maart\n•\n19 april\n•\n31 mei
URL:https://regenboogkerk.nl/agenda/11419/
LOCATION:K.Norelschool
CATEGORIES:Jeugd,Kerkdienst
ATTACH;FMTTYPE=image/jpeg:https://regenboogkerk.nl/wp-content/uploads/2024/04/kind-en-muziek.jpeg
END:VEVENT
BEGIN:VEVENT
DTSTART;TZID=Europe/Amsterdam:20260201T100000
DTEND;TZID=Europe/Amsterdam:20260201T110000
DTSTAMP:20260424T173927
CREATED:20260110T100106Z
LAST-MODIFIED:20260110T100106Z
UID:11428-1769940000-1769943600@regenboogkerk.nl
SUMMARY:Kinderdienst XL
DESCRIPTION:Zie NF 6 \nKinderdienst XL\nAfgelopen september zijn we gestart met Kinderdienst XL.\nDe eerste drie keer waren een groot succes.\nDaarom gaan we ook dit jaar door!\nDus zet alvast de volgende data in je agenda:\n•\n1 februari\n•\n15 maart\n•\n19 april\n•\n31 mei
URL:https://regenboogkerk.nl/agenda/kinderdienst-xl-3/
LOCATION:K.Norelschool
CATEGORIES:Jeugd,Kerkdienst
ATTACH;FMTTYPE=image/jpeg:https://regenboogkerk.nl/wp-content/uploads/2024/04/kind-en-muziek.jpeg
END:VEVENT
BEGIN:VEVENT
DTSTART;TZID=Europe/Amsterdam:20260204T100000
DTEND;TZID=Europe/Amsterdam:20260204T110000
DTSTAMP:20260424T173927
CREATED:20251123T130002Z
LAST-MODIFIED:20251123T130002Z
UID:11308-1770199200-1770202800@regenboogkerk.nl
SUMMARY:Koffie Drinken
DESCRIPTION:  \nBeste koffiedrinkers\,\nIedere woensdag van 10 tot 11 uur\nin het Sociaal Lokaal.\nZomaar gezellig bij elkaar met een kopje koffie. \nTot woensdag \nGroeten\, het kosters team\nContact:  06 810 73 087
URL:https://regenboogkerk.nl/agenda/koffie-drinken-11/
CATEGORIES:Activiteiten
ATTACH;FMTTYPE=image/png:https://regenboogkerk.nl/wp-content/uploads/2025/08/Sociaal-lokaal.png
END:VEVENT
BEGIN:VEVENT
DTSTART;TZID=Europe/Amsterdam:20260208T100000
DTEND;TZID=Europe/Amsterdam:20260208T110000
DTSTAMP:20260424T173927
CREATED:20251123T121803Z
LAST-MODIFIED:20260202T080535Z
UID:11265-1770544800-1770548400@regenboogkerk.nl
SUMMARY:Ochtenddienst
DESCRIPTION:Voorganger: ds. A.M. v.d. Wetering \nDoop Funda Civic \nWees allen welkom!\nNa de dienst kunnen we elkaar ontmoeten onder het genot van een kopje koffie. \nOok digitaal bijwonen\nDeze kerkdienst is ook live te volgen of terug te kijken via Kerk TV \n 
URL:https://regenboogkerk.nl/agenda/ochtenddienst-13/
LOCATION:Buurtgebouw Burgerenk\, Klimtuin 46\, Epe\, 8162 ZV
CATEGORIES:Kerkdienst
ATTACH;FMTTYPE=image/jpeg:https://regenboogkerk.nl/wp-content/uploads/2024/07/burgerenk-buurtgebouw.jpg
END:VEVENT
BEGIN:VEVENT
DTSTART;TZID=Europe/Amsterdam:20260208T140000
DTEND;TZID=Europe/Amsterdam:20260208T153000
DTSTAMP:20260424T173927
CREATED:20260208T105103Z
LAST-MODIFIED:20260208T105103Z
UID:11492-1770559200-1770564600@regenboogkerk.nl
SUMMARY:Regenboogwandeling
DESCRIPTION:zie NF 10 \nRegenboogwandeling \nDoor het heftige winterweer kon de wandeling in januari niet doorgaan en waren we genoodzaakt om stilletjes achter het raam naar buiten te staren.\nGelukkig krijgen we weer een kans en pakken we de geplande wandeling a.s. Zondag de 8ste op.\nWe starten 0m 14.00 uur op de parkeerplaats van het Natuurhotel De Witte Berken aan de Oost-Ravenweg 8 in Epe.\nIn die buurt is in de loop van de tijd door een familie een Arboretum aangelegd wat interessant is om te beleven.\nNa de wandeling zijn we welkom in het gezellige restaurant voor een drankje en een goed gesprek. Iedereen hartelijk welkom\, misschien is het ook leuk voor de buurman of een vriendin om een keertje mee te wandelen.\nRieneke Tibben-Groen
URL:https://regenboogkerk.nl/agenda/regenboogwandeling-4/
CATEGORIES:Activiteiten
ATTACH;FMTTYPE=image/jpeg:https://regenboogkerk.nl/wp-content/uploads/2022/07/Regenboog-wandeling.jpg
END:VEVENT
BEGIN:VEVENT
DTSTART;TZID=Europe/Amsterdam:20260208T190000
DTEND;TZID=Europe/Amsterdam:20260208T200000
DTSTAMP:20260424T173927
CREATED:20251123T123632Z
LAST-MODIFIED:20251123T123704Z
UID:11289-1770577200-1770580800@regenboogkerk.nl
SUMMARY:CBD dienst m.m.v. Band Zuiver
DESCRIPTION:Voorganger: ds. J. Swager\,
URL:https://regenboogkerk.nl/agenda/cbd-dienst-m-m-v-band-zuiver/
LOCATION:Goede Herderkerk Epe\, Enkweg 2\, Epe\, 8162VW\, Nederland
CATEGORIES:Kerkdienst
ATTACH;FMTTYPE=image/png:https://regenboogkerk.nl/wp-content/uploads/2022/07/Goede-Herder-Kerk.png
END:VEVENT
BEGIN:VEVENT
DTSTART;TZID=Europe/Amsterdam:20260210T194500
DTEND;TZID=Europe/Amsterdam:20260210T220000
DTSTAMP:20260424T173927
CREATED:20260112T134112Z
LAST-MODIFIED:20260112T134112Z
UID:11436-1770752700-1770760800@regenboogkerk.nl
SUMMARY:Kerkenraadsvergadering
DESCRIPTION:Kerkenraadsvergaderingen\, \n2e dinsdag van de maand. \ndinsdag 10 maart\, 14 april\, 12 mei\, 9 juni \n 
URL:https://regenboogkerk.nl/agenda/kerkenraadsvergadering-2/
LOCATION:Sociaal Lokaal
CATEGORIES:Organisatie
ATTACH;FMTTYPE=image/png:https://regenboogkerk.nl/wp-content/uploads/2024/01/Kerkenraad-regenboog.png
END:VEVENT
BEGIN:VEVENT
DTSTART;TZID=Europe/Amsterdam:20260211T100000
DTEND;TZID=Europe/Amsterdam:20260211T110000
DTSTAMP:20260424T173927
CREATED:20260202T080611Z
LAST-MODIFIED:20260202T080611Z
UID:11464-1770804000-1770807600@regenboogkerk.nl
SUMMARY:Koffie Drinken
DESCRIPTION:  \nBeste koffiedrinkers\,\nIedere woensdag van 10 tot 11 uur\nin het Sociaal Lokaal.\nZomaar gezellig bij elkaar met een kopje koffie. \nTot woensdag \nGroeten\, het kosters team\nContact:  06 810 73 087
URL:https://regenboogkerk.nl/agenda/koffie-drinken-13/
CATEGORIES:Activiteiten
ATTACH;FMTTYPE=image/png:https://regenboogkerk.nl/wp-content/uploads/2025/08/Sociaal-lokaal.png
END:VEVENT
BEGIN:VEVENT
DTSTART;TZID=Europe/Amsterdam:20260211T143000
DTEND;TZID=Europe/Amsterdam:20260211T170000
DTSTAMP:20260424T173927
CREATED:20260110T095227Z
LAST-MODIFIED:20260110T095227Z
UID:11411-1770820200-1770829200@regenboogkerk.nl
SUMMARY:Seniorencontact
DESCRIPTION:Zie NF 6 \nSeniorencontact\nFijn om elkaar weer te ontmoeten in 2026\nen dat kan op;\n*woensdag 14 januari Cees Wittekoek\nWat heeft Piet Hein voor ons land betekend?\n*woensdag 11 februari Theo Somsen\nStripfiguren\n*woensdag 11 maart Piet van Oosten\n(onder voorbehoud)\nLanding D-day door Canadees leger 1944\n*woensdag 1 april Paaslunch\n*woensdag 13 mei uitstapje\nVoel u welkom in de Goede Herderkerk\nom 14u30!\nWarme groet\, Ella\, Sita en Helga
URL:https://regenboogkerk.nl/agenda/seniorencontact-2/
LOCATION:Goede Herderkerk Epe\, Enkweg 2\, Epe\, 8162VW\, Nederland
CATEGORIES:Activiteiten
ATTACH;FMTTYPE=image/jpeg:https://regenboogkerk.nl/wp-content/uploads/2022/08/senioren.jpg
END:VEVENT
BEGIN:VEVENT
DTSTART;TZID=Europe/Amsterdam:20260215T093000
DTEND;TZID=Europe/Amsterdam:20260215T100000
DTSTAMP:20260424T173927
CREATED:20251001T080012Z
LAST-MODIFIED:20251001T080012Z
UID:11085-1771147800-1771149600@regenboogkerk.nl
SUMMARY:Kerk Op Schoot.
DESCRIPTION:Zie NF 42 \nHierbij alle data van Kerk Op Schoot.\n18 januari 2026\n15 februari 2026\n22 maart 2026\n19 april 2026\n24 mei 2026
URL:https://regenboogkerk.nl/agenda/kerk-op-schoot-6/
LOCATION:Buurtgebouw Burgerenk\, Klimtuin 46\, Epe\, 8162 ZV
CATEGORIES:Jeugd,Kerkdienst
ATTACH;FMTTYPE=image/jpeg:https://regenboogkerk.nl/wp-content/uploads/2022/09/Kerk-op-schoot.jpg
END:VEVENT
BEGIN:VEVENT
DTSTART;TZID=Europe/Amsterdam:20260215T100000
DTEND;TZID=Europe/Amsterdam:20260215T110000
DTSTAMP:20260424T173927
CREATED:20251123T122927Z
LAST-MODIFIED:20251123T122927Z
UID:11283-1771149600-1771153200@regenboogkerk.nl
SUMMARY:Ochtenddienst
DESCRIPTION:Voorganger: ds. B. Heslinga \nWees allen welkom!\nNa de dienst kunnen we elkaar ontmoeten onder het genot van een kopje koffie. \nOok digitaal bijwonen\nDeze kerkdienst is ook live te volgen of terug te kijken via Kerk TV \n 
URL:https://regenboogkerk.nl/agenda/ochtenddienst-20/
LOCATION:Buurtgebouw Burgerenk\, Klimtuin 46\, Epe\, 8162 ZV
CATEGORIES:Kerkdienst
ATTACH;FMTTYPE=image/jpeg:https://regenboogkerk.nl/wp-content/uploads/2024/07/burgerenk-buurtgebouw.jpg
END:VEVENT
BEGIN:VEVENT
DTSTART;TZID=Europe/Amsterdam:20260218T100000
DTEND;TZID=Europe/Amsterdam:20260218T110000
DTSTAMP:20260424T173927
CREATED:20260202T080633Z
LAST-MODIFIED:20260202T080633Z
UID:11466-1771408800-1771412400@regenboogkerk.nl
SUMMARY:Koffie Drinken
DESCRIPTION:  \nBeste koffiedrinkers\,\nIedere woensdag van 10 tot 11 uur\nin het Sociaal Lokaal.\nZomaar gezellig bij elkaar met een kopje koffie. \nTot woensdag \nGroeten\, het kosters team\nContact:  06 810 73 087
URL:https://regenboogkerk.nl/agenda/koffie-drinken-16/
CATEGORIES:Activiteiten
ATTACH;FMTTYPE=image/png:https://regenboogkerk.nl/wp-content/uploads/2025/08/Sociaal-lokaal.png
END:VEVENT
BEGIN:VEVENT
DTSTART;TZID=Europe/Amsterdam:20260220T190000
DTEND;TZID=Europe/Amsterdam:20260220T193000
DTSTAMP:20260424T173927
CREATED:20251123T124717Z
LAST-MODIFIED:20251123T125656Z
UID:11299-1771614000-1771615800@regenboogkerk.nl
SUMMARY:Boskamp 't Harde - Heilig Avondmaal
DESCRIPTION:Vrijdag avond\nBoskamp ’t Harde – Heilig Avondmaal\nvoorganger: ?
URL:https://regenboogkerk.nl/agenda/boskamp-t-harde-heilig-avondmaal/
LOCATION:De Boskamp\, Albert Schweitzerlaan 25\, Epe\, 8162 DS\, Nederland
CATEGORIES:Kerkdienst
ATTACH;FMTTYPE=image/jpeg:https://regenboogkerk.nl/wp-content/uploads/2025/11/Boskamp-t-harde.jpg
END:VEVENT
BEGIN:VEVENT
DTSTART;TZID=Europe/Amsterdam:20260222T100000
DTEND;TZID=Europe/Amsterdam:20260222T110000
DTSTAMP:20260424T173927
CREATED:20251123T121852Z
LAST-MODIFIED:20251123T121959Z
UID:11267-1771754400-1771758000@regenboogkerk.nl
SUMMARY:Ochtenddienst Heilig Avondmaal
DESCRIPTION:Voorganger: ds. A.M. v.d. Wetering \nWees allen welkom!\nNa de dienst kunnen we elkaar ontmoeten onder het genot van een kopje koffie. \nOok digitaal bijwonen\nDeze kerkdienst is ook live te volgen of terug te kijken via Kerk TV \n 
URL:https://regenboogkerk.nl/agenda/ochtenddienst-14/
LOCATION:Buurtgebouw Burgerenk\, Klimtuin 46\, Epe\, 8162 ZV
CATEGORIES:Kerkdienst
ATTACH;FMTTYPE=image/jpeg:https://regenboogkerk.nl/wp-content/uploads/2024/07/burgerenk-buurtgebouw.jpg
END:VEVENT
BEGIN:VEVENT
DTSTART;TZID=Europe/Amsterdam:20260225T100000
DTEND;TZID=Europe/Amsterdam:20260225T110000
DTSTAMP:20260424T173927
CREATED:20260202T080652Z
LAST-MODIFIED:20260202T080652Z
UID:11468-1772013600-1772017200@regenboogkerk.nl
SUMMARY:Koffie Drinken
DESCRIPTION:  \nBeste koffiedrinkers\,\nIedere woensdag van 10 tot 11 uur\nin het Sociaal Lokaal.\nZomaar gezellig bij elkaar met een kopje koffie. \nTot woensdag \nGroeten\, het kosters team\nContact:  06 810 73 087
URL:https://regenboogkerk.nl/agenda/koffie-drinken-17/
CATEGORIES:Activiteiten
ATTACH;FMTTYPE=image/png:https://regenboogkerk.nl/wp-content/uploads/2025/08/Sociaal-lokaal.png
END:VEVENT
BEGIN:VEVENT
DTSTART;VALUE=DATE:20260227
DTEND;VALUE=DATE:20260228
DTSTAMP:20260424T173927
CREATED:20251001T085823Z
LAST-MODIFIED:20251001T085823Z
UID:11119-1772150400-1772236799@regenboogkerk.nl
SUMMARY:Copy inleveren voor het kerkblad Antenne
DESCRIPTION:Copy inleveren voor het kerkblad Antenne.  \nuiterlijk laatste vrijdag v.d. maand
URL:https://regenboogkerk.nl/agenda/copy-inleveren-voor-het-kerkblad-antenne-4/
CATEGORIES:Organisatie
ATTACH;FMTTYPE=image/jpeg:https://regenboogkerk.nl/wp-content/uploads/2021/05/kekrblad-antenne-1.jpg
END:VEVENT
END:VCALENDAR