BEGIN:VCALENDAR
VERSION:2.0
PRODID:-//Regenboogkerk Epe - ECPv6.15.20//NONSGML v1.0//EN
CALSCALE:GREGORIAN
METHOD:PUBLISH
X-WR-CALNAME:Regenboogkerk Epe
X-ORIGINAL-URL:https://regenboogkerk.nl
X-WR-CALDESC:Evenementen voor Regenboogkerk Epe
REFRESH-INTERVAL;VALUE=DURATION:PT1H
X-Robots-Tag:noindex
X-PUBLISHED-TTL:PT1H
BEGIN:VTIMEZONE
TZID:Europe/Amsterdam
BEGIN:DAYLIGHT
TZOFFSETFROM:+0100
TZOFFSETTO:+0200
TZNAME:CEST
DTSTART:20240331T010000
END:DAYLIGHT
BEGIN:STANDARD
TZOFFSETFROM:+0200
TZOFFSETTO:+0100
TZNAME:CET
DTSTART:20241027T010000
END:STANDARD
BEGIN:DAYLIGHT
TZOFFSETFROM:+0100
TZOFFSETTO:+0200
TZNAME:CEST
DTSTART:20250330T010000
END:DAYLIGHT
BEGIN:STANDARD
TZOFFSETFROM:+0200
TZOFFSETTO:+0100
TZNAME:CET
DTSTART:20251026T010000
END:STANDARD
BEGIN:DAYLIGHT
TZOFFSETFROM:+0100
TZOFFSETTO:+0200
TZNAME:CEST
DTSTART:20260329T010000
END:DAYLIGHT
BEGIN:STANDARD
TZOFFSETFROM:+0200
TZOFFSETTO:+0100
TZNAME:CET
DTSTART:20261025T010000
END:STANDARD
END:VTIMEZONE
BEGIN:VEVENT
DTSTART;TZID=Europe/Amsterdam:20251102T100000
DTEND;TZID=Europe/Amsterdam:20251102T110000
DTSTAMP:20260424T223437
CREATED:20251012T181600Z
LAST-MODIFIED:20251012T181600Z
UID:11155-1762077600-1762081200@regenboogkerk.nl
SUMMARY:Ochtenddienst
DESCRIPTION:Voorganger: ds. L.E. Bassa\, Heerde \nWees allen welkom!\nNa de dienst kunnen we elkaar ontmoeten onder het genot van een kopje koffie. \nOok digitaal bijwonen\nDeze kerkdienst is ook live te volgen of terug te kijken via Kerk TV \n 
URL:https://regenboogkerk.nl/agenda/ochtenddienst-6/
LOCATION:Buurtgebouw Burgerenk\, Klimtuin 46\, Epe\, 8162 ZV
CATEGORIES:Kerkdienst
ATTACH;FMTTYPE=image/jpeg:https://regenboogkerk.nl/wp-content/uploads/2024/07/burgerenk-buurtgebouw.jpg
END:VEVENT
BEGIN:VEVENT
DTSTART;TZID=Europe/Amsterdam:20251102T190000
DTEND;TZID=Europe/Amsterdam:20251102T193000
DTSTAMP:20260424T223437
CREATED:20251001T081116Z
LAST-MODIFIED:20251001T081239Z
UID:11096-1762110000-1762111800@regenboogkerk.nl
SUMMARY:TAIZÉ viering
DESCRIPTION:Zie Antenne nr. 9 \nTAIZÉ viering op zondag 2 november\nOm 19.00 uur wordt weer een Taizé viering in de Grote Kerk gehouden\, uitgaande van de Grote Kerk\, Regenboogkerk en RK-geloofsgemeenschap H. Martinus Epe/Heerde. Het thema voor deze Taizé viering is ‘Troost’. In deze viering zoeken we naar troost in de Bijbellezingen\, gebeden en de Taizé liederen. Bij aanvang van de viering kan iedereen een kaarsje aansteken aan de Paaskaars. \nVoor het ondersteunen van de samenzang is er een gelegenheidskoor\, dat voorafgaande aan de dienst vanaf 15.00 uur de liederen zal instuderen. \nHet koor staat onder leiding van Inger Heij. Belangstellenden graag van tevoren bij haar opgeven via i.heij@live.nl en vermelden bij welke stemsoort u wilt ingedeeld worden: sopraan\, alt\, tenor of bas.
URL:https://regenboogkerk.nl/agenda/taize-viering/
CATEGORIES:Bezinning,Kerkdienst
ATTACH;FMTTYPE=image/jpeg:https://regenboogkerk.nl/wp-content/uploads/2023/09/Taizekruis.jpg
END:VEVENT
BEGIN:VEVENT
DTSTART;TZID=Europe/Amsterdam:20251105T100000
DTEND;TZID=Europe/Amsterdam:20251105T110000
DTSTAMP:20260424T223437
CREATED:20251123T125824Z
LAST-MODIFIED:20251123T125824Z
UID:11302-1762336800-1762340400@regenboogkerk.nl
SUMMARY:Koffie Drinken
DESCRIPTION:Zie NF 37\, 38 \nBeste koffiedrinkers\,\nIedere woensdag van 10 tot 11 uur\nin het Sociaal Lokaal.\nZomaar gezellig bij elkaar met een kopje koffie. \nTot woensdag \nGroeten\, het kosters team\nContact:  06 810 73 087
URL:https://regenboogkerk.nl/agenda/koffie-drinken-8/
CATEGORIES:Activiteiten
ATTACH;FMTTYPE=image/png:https://regenboogkerk.nl/wp-content/uploads/2025/08/Sociaal-lokaal.png
END:VEVENT
BEGIN:VEVENT
DTSTART;TZID=Europe/Amsterdam:20251105T193000
DTEND;TZID=Europe/Amsterdam:20251105T203000
DTSTAMP:20260424T223437
CREATED:20251012T184110Z
LAST-MODIFIED:20251012T184110Z
UID:11185-1762371000-1762374600@regenboogkerk.nl
SUMMARY:Dankdag
DESCRIPTION:Voorganger: ds. R. Buijs
URL:https://regenboogkerk.nl/agenda/dankdag/
LOCATION:Goede Herderkerk Epe\, Enkweg 2\, Epe\, 8162VW\, Nederland
CATEGORIES:Kerkdienst
ATTACH;FMTTYPE=image/png:https://regenboogkerk.nl/wp-content/uploads/2022/07/Goede-Herder-Kerk.png
END:VEVENT
BEGIN:VEVENT
DTSTART;VALUE=DATE:20251108
DTEND;VALUE=DATE:20251116
DTSTAMP:20260424T223437
CREATED:20250905T105855Z
LAST-MODIFIED:20250905T105855Z
UID:11007-1762560000-1763251199@regenboogkerk.nl
SUMMARY:vakantieweek in het Nieuw Hydepark te Doorn
DESCRIPTION:Zie Antenne 8 \nOok dit najaar is het weer tijd voor onze jaarlijkse jam/honing/wijnactie ten behoeve van de vakantieweek in het Nieuw Hydepark. \nDe vakantieweek die dit jaar\, voor de 43 ste keer wordt gehouden van 8 t/m 15 november\,  is bedoeld voor mensen die moeilijk alleen met vakantie kunnen. \nZij kunnen alleen of met hun partner een weekje geweldig genieten.
URL:https://regenboogkerk.nl/agenda/vakantieweek-in-het-nieuw-hydepark-te-doorn/
CATEGORIES:Activiteiten
ATTACH;FMTTYPE=image/jpeg:https://regenboogkerk.nl/wp-content/uploads/2021/04/Nieuw-Hydepark-Doorn-e1618521035983.jpg
END:VEVENT
BEGIN:VEVENT
DTSTART;TZID=Europe/Amsterdam:20251109T100000
DTEND;TZID=Europe/Amsterdam:20251109T110000
DTSTAMP:20260424T223437
CREATED:20251012T181656Z
LAST-MODIFIED:20251012T181801Z
UID:11157-1762682400-1762686000@regenboogkerk.nl
SUMMARY:Ochtenddienst Kerk en schooldienst
DESCRIPTION:Voorganger: ds. A.M. v.d. Wetering \nWees allen welkom!\nNa de dienst kunnen we elkaar ontmoeten onder het genot van een kopje koffie. \nOok digitaal bijwonen\nDeze kerkdienst is ook live te volgen of terug te kijken via Kerk TV \n 
URL:https://regenboogkerk.nl/agenda/ochtenddienst-7/
LOCATION:Buurtgebouw Burgerenk\, Klimtuin 46\, Epe\, 8162 ZV
CATEGORIES:Kerkdienst
ATTACH;FMTTYPE=image/jpeg:https://regenboogkerk.nl/wp-content/uploads/2024/07/burgerenk-buurtgebouw.jpg
END:VEVENT
BEGIN:VEVENT
DTSTART;TZID=Europe/Amsterdam:20251109T140000
DTEND;TZID=Europe/Amsterdam:20251109T153000
DTSTAMP:20260424T223437
CREATED:20251003T193642Z
LAST-MODIFIED:20251101T162622Z
UID:11143-1762696800-1762702200@regenboogkerk.nl
SUMMARY:Regenboogwandelingen
DESCRIPTION:Zie NF 45 / 49 \nData komende Regenboogwandelingen\nOp zondagmiddag 9 november is een\ninteressante wandeling gepland.\nRegenboogwandeling elke tweede zondag van de maand.\nEen historische wandeling naar het landgoed Morena en naar het helikopter vliegveld Epe.\nEen groet van Rieneke Tibben-Groen
URL:https://regenboogkerk.nl/agenda/regenboogwandelingen/
CATEGORIES:Activiteiten
ATTACH;FMTTYPE=image/jpeg:https://regenboogkerk.nl/wp-content/uploads/2022/07/Regenboog-wandeling.jpg
END:VEVENT
BEGIN:VEVENT
DTSTART;TZID=Europe/Amsterdam:20251109T190000
DTEND;TZID=Europe/Amsterdam:20251109T200000
DTSTAMP:20260424T223437
CREATED:20251012T183912Z
LAST-MODIFIED:20251012T184321Z
UID:11182-1762714800-1762718400@regenboogkerk.nl
SUMMARY:CBD dienst in GHK
DESCRIPTION:Voorganger: \n\n\n\nDs. A.M. v.d. Wetering\n\n\n\n 
URL:https://regenboogkerk.nl/agenda/cbd-dienst-in-ghk-2/
LOCATION:Goede Herderkerk Epe\, Enkweg 2\, Epe\, 8162VW\, Nederland
CATEGORIES:Kerkdienst
ATTACH;FMTTYPE=image/png:https://regenboogkerk.nl/wp-content/uploads/2022/07/Goede-Herder-Kerk.png
END:VEVENT
BEGIN:VEVENT
DTSTART;TZID=Europe/Amsterdam:20251112T143000
DTEND;TZID=Europe/Amsterdam:20251112T163000
DTSTAMP:20260424T223437
CREATED:20250905T111949Z
LAST-MODIFIED:20250905T111949Z
UID:11022-1762957800-1762965000@regenboogkerk.nl
SUMMARY:Seniorencontact (60+)
DESCRIPTION:Zie NF 41 \nin de Goede Herderkerk van 14u30 tot 16u30\nvoor een heerlijk bakkie met wat lekkers en een gezellige en informatieve middag.\n➢ 10 september\,\nfam. Neeleman\, Oeganda\, het groene hart van Afrika\n➢ 8 oktober\,\nWillemien Bomhof\, Hoedenpraat\n➢ 12 november\nTheo Somsen\, Stripverhalen\n➢ 10 december\nKerst met Willemien Hilberink
URL:https://regenboogkerk.nl/agenda/seniorencontact-60-3/
CATEGORIES:Activiteiten
ATTACH;FMTTYPE=image/jpeg:https://regenboogkerk.nl/wp-content/uploads/2022/08/senioren.jpg
END:VEVENT
BEGIN:VEVENT
DTSTART;TZID=Europe/Amsterdam:20251113T190000
DTEND;TZID=Europe/Amsterdam:20251113T193000
DTSTAMP:20260424T223437
CREATED:20251018T073607Z
LAST-MODIFIED:20251018T073607Z
UID:11208-1763060400-1763062200@regenboogkerk.nl
SUMMARY:Samen bidden
DESCRIPTION:Zie NF 46 \nWoensdagavond\nLocatie: de jeugdruimte van de Goede\nHerderkerk van 19.00-19.30/19.45 uur.\nDoe je ook mee?\nWe bidden samen voor alles wat er speelt en\nleeft in onze kerk.
URL:https://regenboogkerk.nl/agenda/samen-bidden-3/
LOCATION:Goede Herderkerk Epe\, Enkweg 2\, Epe\, 8162VW\, Nederland
CATEGORIES:Bezinning
ATTACH;FMTTYPE=image/jpeg:https://regenboogkerk.nl/wp-content/uploads/2024/08/gebed-1.jpeg
END:VEVENT
BEGIN:VEVENT
DTSTART;TZID=Europe/Amsterdam:20251116T100000
DTEND;TZID=Europe/Amsterdam:20251116T110000
DTSTAMP:20260424T223437
CREATED:20251012T181850Z
LAST-MODIFIED:20251012T181850Z
UID:11161-1763287200-1763290800@regenboogkerk.nl
SUMMARY:Ochtenddienst
DESCRIPTION:Voorganger: ds. A.M. v.d. Wetering \nWees allen welkom!\nNa de dienst kunnen we elkaar ontmoeten onder het genot van een kopje koffie. \nOok digitaal bijwonen\nDeze kerkdienst is ook live te volgen of terug te kijken via Kerk TV \n 
URL:https://regenboogkerk.nl/agenda/ochtenddienst-8/
LOCATION:Buurtgebouw Burgerenk\, Klimtuin 46\, Epe\, 8162 ZV
CATEGORIES:Kerkdienst
ATTACH;FMTTYPE=image/jpeg:https://regenboogkerk.nl/wp-content/uploads/2024/07/burgerenk-buurtgebouw.jpg
END:VEVENT
BEGIN:VEVENT
DTSTART;VALUE=DATE:20251119
DTEND;VALUE=DATE:20251120
DTSTAMP:20260424T223437
CREATED:20251114T111225Z
LAST-MODIFIED:20251114T111225Z
UID:11249-1763510400-1763596799@regenboogkerk.nl
SUMMARY:Verhuizing Boskamp
DESCRIPTION:Zie NF 51
URL:https://regenboogkerk.nl/agenda/verhuizing-boskamp/
ATTACH;FMTTYPE=image/jpeg:https://regenboogkerk.nl/wp-content/uploads/2021/11/Boskamp-Epe-scaled.jpg
END:VEVENT
BEGIN:VEVENT
DTSTART;TZID=Europe/Amsterdam:20251121T200000
DTEND;TZID=Europe/Amsterdam:20251121T210000
DTSTAMP:20260424T223437
CREATED:20251114T110935Z
LAST-MODIFIED:20251114T110935Z
UID:11247-1763755200-1763758800@regenboogkerk.nl
SUMMARY:Avond van Gebed.
DESCRIPTION:Zie NF 51 \nDatum : vrijdag 21 november 2025\nPlaats : De Hoeksteen\, gebouw achter de hervormde kerk Emst\, Vaassenseweg 1 Emst\nTijd : 20.00 uur – 22.00 uur (inloop vanaf 19.45)
URL:https://regenboogkerk.nl/agenda/avond-van-gebed/
ATTACH;FMTTYPE=image/jpeg:https://regenboogkerk.nl/wp-content/uploads/2024/08/gebed-1.jpeg
END:VEVENT
BEGIN:VEVENT
DTSTART;TZID=Europe/Amsterdam:20251123T100000
DTEND;TZID=Europe/Amsterdam:20251123T110000
DTSTAMP:20260424T223437
CREATED:20251012T182106Z
LAST-MODIFIED:20251012T182106Z
UID:11163-1763892000-1763895600@regenboogkerk.nl
SUMMARY:Ochtenddienst gedachtenis+muziekteam
DESCRIPTION:Voorganger: ds. A.M. v.d. Wetering \nWees allen welkom!\nNa de dienst kunnen we elkaar ontmoeten onder het genot van een kopje koffie. \nOok digitaal bijwonen\nDeze kerkdienst is ook live te volgen of terug te kijken via Kerk TV \n 
URL:https://regenboogkerk.nl/agenda/ochtenddienst-gedachtenismuziekteam/
LOCATION:Buurtgebouw Burgerenk\, Klimtuin 46\, Epe\, 8162 ZV
CATEGORIES:Kerkdienst
ATTACH;FMTTYPE=image/jpeg:https://regenboogkerk.nl/wp-content/uploads/2024/07/burgerenk-buurtgebouw.jpg
END:VEVENT
BEGIN:VEVENT
DTSTART;TZID=Europe/Amsterdam:20251127T193000
DTEND;TZID=Europe/Amsterdam:20251127T213000
DTSTAMP:20260424T223437
CREATED:20251121T214520Z
LAST-MODIFIED:20251121T214520Z
UID:11257-1764271800-1764279000@regenboogkerk.nl
SUMMARY:Avond met Zin en Kleur
DESCRIPTION:Zie NF 52. \nDeze Avond met Zin en Kleur wordt donderdag\n27 november gehouden in de Goede Herderkerk\,\nEnkweg 2\, Epe.\nWe starten om 19.30 uur en de inloop is vanaf\n19.00 uur. U bent van harte welkom!
URL:https://regenboogkerk.nl/agenda/avond-met-zin-en-kleur-2/
LOCATION:Goede Herderkerk Epe\, Enkweg 2\, Epe\, 8162VW\, Nederland
CATEGORIES:Activiteiten
ATTACH;FMTTYPE=image/jpeg:https://regenboogkerk.nl/wp-content/uploads/2025/09/Avonden-met-Zin-en-Kleur.jpg
END:VEVENT
BEGIN:VEVENT
DTSTART;VALUE=DATE:20251128
DTEND;VALUE=DATE:20251129
DTSTAMP:20260424T223437
CREATED:20251001T085134Z
LAST-MODIFIED:20251001T085736Z
UID:11114-1764288000-1764374399@regenboogkerk.nl
SUMMARY:Copy inleveren voor het kerkblad Antenne
DESCRIPTION:Copy inleveren voor het kerkblad Antenne. dec. en jan. \nuiterlijk laatste vrijdag v.d. maand
URL:https://regenboogkerk.nl/agenda/copy-inleveren-voor-het-kerkblad-antenne-2/
CATEGORIES:Organisatie
ATTACH;FMTTYPE=image/jpeg:https://regenboogkerk.nl/wp-content/uploads/2021/05/kekrblad-antenne-1.jpg
END:VEVENT
BEGIN:VEVENT
DTSTART;TZID=Europe/Amsterdam:20251128T190000
DTEND;TZID=Europe/Amsterdam:20251128T193000
DTSTAMP:20260424T223437
CREATED:20251012T183559Z
LAST-MODIFIED:20251012T183559Z
UID:11180-1764356400-1764358200@regenboogkerk.nl
SUMMARY:Avonddienst Boskamp - Heilig Avondmaal
DESCRIPTION:Heilig Avondmaal Boskamp\nvoorganger: voorganger Grote Kerk
URL:https://regenboogkerk.nl/agenda/avonddienst-boskamp-heilig-avondmaal-2/
LOCATION:De Boskamp\, Albert Schweitzerlaan 25\, Epe\, 8162 DS\, Nederland
CATEGORIES:Kerkdienst
ATTACH;FMTTYPE=image/jpeg:https://regenboogkerk.nl/wp-content/uploads/2022/07/De-Boskamp.jpg
END:VEVENT
BEGIN:VEVENT
DTSTART;TZID=Europe/Amsterdam:20251129T183000
DTEND;TZID=Europe/Amsterdam:20251129T220000
DTSTAMP:20260424T223437
CREATED:20251001T081439Z
LAST-MODIFIED:20251001T081540Z
UID:11098-1764441000-1764453600@regenboogkerk.nl
SUMMARY:RUNNING DINNER
DESCRIPTION:Zie Antenne nr 9. \nHet RUNNING DINNER is op zaterdag 29 november 2025:
URL:https://regenboogkerk.nl/agenda/running-dinner/
CATEGORIES:Activiteiten
ATTACH;FMTTYPE=image/jpeg:https://regenboogkerk.nl/wp-content/uploads/2022/08/Running-dinner.jpg
END:VEVENT
BEGIN:VEVENT
DTSTART;TZID=Europe/Amsterdam:20251130T093000
DTEND;TZID=Europe/Amsterdam:20251130T100000
DTSTAMP:20260424T223437
CREATED:20250912T195350Z
LAST-MODIFIED:20250912T195350Z
UID:11035-1764495000-1764496800@regenboogkerk.nl
SUMMARY:Kerk Op Schoot.
DESCRIPTION:Zie NF 42 \nHierbij alle data van Kerk Op Schoot.\n19 oktober 2025\n30 november 2025\n21 december 2025\n18 januari 2026\n15 februari 2026\n22 maart 2026\n19 april 2026\n24 mei 2026
URL:https://regenboogkerk.nl/agenda/kerk-op-schoot-3/
LOCATION:Buurtgebouw Burgerenk\, Klimtuin 46\, Epe\, 8162 ZV
CATEGORIES:Jeugd,Kerkdienst
ATTACH;FMTTYPE=image/jpeg:https://regenboogkerk.nl/wp-content/uploads/2022/09/Kerk-op-schoot.jpg
END:VEVENT
BEGIN:VEVENT
DTSTART;TZID=Europe/Amsterdam:20251130T100000
DTEND;TZID=Europe/Amsterdam:20251130T110000
DTSTAMP:20260424T223437
CREATED:20251012T182222Z
LAST-MODIFIED:20251012T182925Z
UID:11165-1764496800-1764500400@regenboogkerk.nl
SUMMARY:Ochtenddienst 1e Advent Heilig Avondmaal
DESCRIPTION:Voorganger: ds. A.M. v.d. Wetering \nWees allen welkom!\nNa de dienst kunnen we elkaar ontmoeten onder het genot van een kopje koffie. \nOok digitaal bijwonen\nDeze kerkdienst is ook live te volgen of terug te kijken via Kerk TV \n 
URL:https://regenboogkerk.nl/agenda/ochtenddienst-1e-advent-heilig-avondmaal/
LOCATION:Buurtgebouw Burgerenk\, Klimtuin 46\, Epe\, 8162 ZV
CATEGORIES:Kerkdienst
ATTACH;FMTTYPE=image/jpeg:https://regenboogkerk.nl/wp-content/uploads/2024/07/burgerenk-buurtgebouw.jpg
END:VEVENT
END:VCALENDAR