BEGIN:VCALENDAR
VERSION:2.0
PRODID:-//Regenboogkerk Epe - ECPv6.15.20//NONSGML v1.0//EN
CALSCALE:GREGORIAN
METHOD:PUBLISH
X-ORIGINAL-URL:https://regenboogkerk.nl
X-WR-CALDESC:Evenementen voor Regenboogkerk Epe
REFRESH-INTERVAL;VALUE=DURATION:PT1H
X-Robots-Tag:noindex
X-PUBLISHED-TTL:PT1H
BEGIN:VTIMEZONE
TZID:Europe/Amsterdam
BEGIN:DAYLIGHT
TZOFFSETFROM:+0100
TZOFFSETTO:+0200
TZNAME:CEST
DTSTART:20250330T010000
END:DAYLIGHT
BEGIN:STANDARD
TZOFFSETFROM:+0200
TZOFFSETTO:+0100
TZNAME:CET
DTSTART:20251026T010000
END:STANDARD
BEGIN:DAYLIGHT
TZOFFSETFROM:+0100
TZOFFSETTO:+0200
TZNAME:CEST
DTSTART:20260329T010000
END:DAYLIGHT
BEGIN:STANDARD
TZOFFSETFROM:+0200
TZOFFSETTO:+0100
TZNAME:CET
DTSTART:20261025T010000
END:STANDARD
BEGIN:DAYLIGHT
TZOFFSETFROM:+0100
TZOFFSETTO:+0200
TZNAME:CEST
DTSTART:20270328T010000
END:DAYLIGHT
BEGIN:STANDARD
TZOFFSETFROM:+0200
TZOFFSETTO:+0100
TZNAME:CET
DTSTART:20271031T010000
END:STANDARD
END:VTIMEZONE
BEGIN:VEVENT
DTSTART;TZID=Europe/Amsterdam:20260312T190000
DTEND;TZID=Europe/Amsterdam:20260312T193000
DTSTAMP:20260424T192310
CREATED:20260213T132119Z
LAST-MODIFIED:20260306T131823Z
UID:11499-1773342000-1773343800@regenboogkerk.nl
SUMMARY:Bidden voor de kerk. Gebedsgroep
DESCRIPTION:Zie NF 11 en 14 \nWil je ook eens meedoen? Dat kan: 12 maart komen we weer bij elkaar van 19-20 uur. Locatie volgt in kerkapp en Nieuwsflits.
URL:https://regenboogkerk.nl/agenda/bidden-voor-de-kerk-gebedsgroep/
CATEGORIES:Bezinning
ATTACH;FMTTYPE=image/jpeg:https://regenboogkerk.nl/wp-content/uploads/2024/08/gebed-1.jpeg
END:VEVENT
BEGIN:VEVENT
DTSTART;TZID=Europe/Amsterdam:20260315T190000
DTEND;TZID=Europe/Amsterdam:20260315T193000
DTSTAMP:20260424T192310
CREATED:20251123T124154Z
LAST-MODIFIED:20260222T060034Z
UID:11294-1773601200-1773603000@regenboogkerk.nl
SUMMARY:Oecumenische Taizé viering
DESCRIPTION:Een Oecumenische Taizé viering in de Grote Kerk Epe.\nuitgaande van de Grote Kerk\, Regenboogkerk en RK-geloofsgemeenschap H. Martinus Epe/Heerde.\nMet vriendelijke groet\,\nNamens de Taizé werkgroep
URL:https://regenboogkerk.nl/agenda/oecumenische-taize-viering/
LOCATION:Grote Kerk Epe\, Beekstraat 1A\, Epe\, 8162 HA\, Nederland
CATEGORIES:Bezinning,Kerkdienst
ATTACH;FMTTYPE=image/jpeg:https://regenboogkerk.nl/wp-content/uploads/2023/09/Taizekruis.jpg
END:VEVENT
END:VCALENDAR