BEGIN:VCALENDAR
VERSION:2.0
PRODID:-//Regenboogkerk Epe - ECPv6.15.20//NONSGML v1.0//EN
CALSCALE:GREGORIAN
METHOD:PUBLISH
X-ORIGINAL-URL:https://regenboogkerk.nl
X-WR-CALDESC:Evenementen voor Regenboogkerk Epe
REFRESH-INTERVAL;VALUE=DURATION:PT1H
X-Robots-Tag:noindex
X-PUBLISHED-TTL:PT1H
BEGIN:VTIMEZONE
TZID:Europe/Amsterdam
BEGIN:DAYLIGHT
TZOFFSETFROM:+0100
TZOFFSETTO:+0200
TZNAME:CEST
DTSTART:20240331T010000
END:DAYLIGHT
BEGIN:STANDARD
TZOFFSETFROM:+0200
TZOFFSETTO:+0100
TZNAME:CET
DTSTART:20241027T010000
END:STANDARD
BEGIN:DAYLIGHT
TZOFFSETFROM:+0100
TZOFFSETTO:+0200
TZNAME:CEST
DTSTART:20250330T010000
END:DAYLIGHT
BEGIN:STANDARD
TZOFFSETFROM:+0200
TZOFFSETTO:+0100
TZNAME:CET
DTSTART:20251026T010000
END:STANDARD
BEGIN:DAYLIGHT
TZOFFSETFROM:+0100
TZOFFSETTO:+0200
TZNAME:CEST
DTSTART:20260329T010000
END:DAYLIGHT
BEGIN:STANDARD
TZOFFSETFROM:+0200
TZOFFSETTO:+0100
TZNAME:CET
DTSTART:20261025T010000
END:STANDARD
END:VTIMEZONE
BEGIN:VEVENT
DTSTART;TZID=Europe/Amsterdam:20251102T190000
DTEND;TZID=Europe/Amsterdam:20251102T193000
DTSTAMP:20260425T013734
CREATED:20251001T081116Z
LAST-MODIFIED:20251001T081239Z
UID:11096-1762110000-1762111800@regenboogkerk.nl
SUMMARY:TAIZÉ viering
DESCRIPTION:Zie Antenne nr. 9 \nTAIZÉ viering op zondag 2 november\nOm 19.00 uur wordt weer een Taizé viering in de Grote Kerk gehouden\, uitgaande van de Grote Kerk\, Regenboogkerk en RK-geloofsgemeenschap H. Martinus Epe/Heerde. Het thema voor deze Taizé viering is ‘Troost’. In deze viering zoeken we naar troost in de Bijbellezingen\, gebeden en de Taizé liederen. Bij aanvang van de viering kan iedereen een kaarsje aansteken aan de Paaskaars. \nVoor het ondersteunen van de samenzang is er een gelegenheidskoor\, dat voorafgaande aan de dienst vanaf 15.00 uur de liederen zal instuderen. \nHet koor staat onder leiding van Inger Heij. Belangstellenden graag van tevoren bij haar opgeven via i.heij@live.nl en vermelden bij welke stemsoort u wilt ingedeeld worden: sopraan\, alt\, tenor of bas.
URL:https://regenboogkerk.nl/agenda/taize-viering/
CATEGORIES:Bezinning,Kerkdienst
ATTACH;FMTTYPE=image/jpeg:https://regenboogkerk.nl/wp-content/uploads/2023/09/Taizekruis.jpg
END:VEVENT
BEGIN:VEVENT
DTSTART;TZID=Europe/Amsterdam:20251113T190000
DTEND;TZID=Europe/Amsterdam:20251113T193000
DTSTAMP:20260425T013734
CREATED:20251018T073607Z
LAST-MODIFIED:20251018T073607Z
UID:11208-1763060400-1763062200@regenboogkerk.nl
SUMMARY:Samen bidden
DESCRIPTION:Zie NF 46 \nWoensdagavond\nLocatie: de jeugdruimte van de Goede\nHerderkerk van 19.00-19.30/19.45 uur.\nDoe je ook mee?\nWe bidden samen voor alles wat er speelt en\nleeft in onze kerk.
URL:https://regenboogkerk.nl/agenda/samen-bidden-3/
LOCATION:Goede Herderkerk Epe\, Enkweg 2\, Epe\, 8162VW\, Nederland
CATEGORIES:Bezinning
ATTACH;FMTTYPE=image/jpeg:https://regenboogkerk.nl/wp-content/uploads/2024/08/gebed-1.jpeg
END:VEVENT
END:VCALENDAR