BEGIN:VCALENDAR
VERSION:2.0
PRODID:-//Regenboogkerk Epe - ECPv6.15.20//NONSGML v1.0//EN
CALSCALE:GREGORIAN
METHOD:PUBLISH
X-WR-CALNAME:Regenboogkerk Epe
X-ORIGINAL-URL:https://regenboogkerk.nl
X-WR-CALDESC:Evenementen voor Regenboogkerk Epe
REFRESH-INTERVAL;VALUE=DURATION:PT1H
X-Robots-Tag:noindex
X-PUBLISHED-TTL:PT1H
BEGIN:VTIMEZONE
TZID:Europe/Amsterdam
BEGIN:DAYLIGHT
TZOFFSETFROM:+0100
TZOFFSETTO:+0200
TZNAME:CEST
DTSTART:20250330T010000
END:DAYLIGHT
BEGIN:STANDARD
TZOFFSETFROM:+0200
TZOFFSETTO:+0100
TZNAME:CET
DTSTART:20251026T010000
END:STANDARD
BEGIN:DAYLIGHT
TZOFFSETFROM:+0100
TZOFFSETTO:+0200
TZNAME:CEST
DTSTART:20260329T010000
END:DAYLIGHT
BEGIN:STANDARD
TZOFFSETFROM:+0200
TZOFFSETTO:+0100
TZNAME:CET
DTSTART:20261025T010000
END:STANDARD
BEGIN:DAYLIGHT
TZOFFSETFROM:+0100
TZOFFSETTO:+0200
TZNAME:CEST
DTSTART:20270328T010000
END:DAYLIGHT
BEGIN:STANDARD
TZOFFSETFROM:+0200
TZOFFSETTO:+0100
TZNAME:CET
DTSTART:20271031T010000
END:STANDARD
END:VTIMEZONE
BEGIN:VEVENT
DTSTART;TZID=Europe/Amsterdam:20260204T100000
DTEND;TZID=Europe/Amsterdam:20260204T110000
DTSTAMP:20260424T211151
CREATED:20251123T130002Z
LAST-MODIFIED:20251123T130002Z
UID:11308-1770199200-1770202800@regenboogkerk.nl
SUMMARY:Koffie Drinken
DESCRIPTION:  \nBeste koffiedrinkers\,\nIedere woensdag van 10 tot 11 uur\nin het Sociaal Lokaal.\nZomaar gezellig bij elkaar met een kopje koffie. \nTot woensdag \nGroeten\, het kosters team\nContact:  06 810 73 087
URL:https://regenboogkerk.nl/agenda/koffie-drinken-11/
CATEGORIES:Activiteiten
ATTACH;FMTTYPE=image/png:https://regenboogkerk.nl/wp-content/uploads/2025/08/Sociaal-lokaal.png
END:VEVENT
BEGIN:VEVENT
DTSTART;TZID=Europe/Amsterdam:20260208T140000
DTEND;TZID=Europe/Amsterdam:20260208T153000
DTSTAMP:20260424T211151
CREATED:20260208T105103Z
LAST-MODIFIED:20260208T105103Z
UID:11492-1770559200-1770564600@regenboogkerk.nl
SUMMARY:Regenboogwandeling
DESCRIPTION:zie NF 10 \nRegenboogwandeling \nDoor het heftige winterweer kon de wandeling in januari niet doorgaan en waren we genoodzaakt om stilletjes achter het raam naar buiten te staren.\nGelukkig krijgen we weer een kans en pakken we de geplande wandeling a.s. Zondag de 8ste op.\nWe starten 0m 14.00 uur op de parkeerplaats van het Natuurhotel De Witte Berken aan de Oost-Ravenweg 8 in Epe.\nIn die buurt is in de loop van de tijd door een familie een Arboretum aangelegd wat interessant is om te beleven.\nNa de wandeling zijn we welkom in het gezellige restaurant voor een drankje en een goed gesprek. Iedereen hartelijk welkom\, misschien is het ook leuk voor de buurman of een vriendin om een keertje mee te wandelen.\nRieneke Tibben-Groen
URL:https://regenboogkerk.nl/agenda/regenboogwandeling-4/
CATEGORIES:Activiteiten
ATTACH;FMTTYPE=image/jpeg:https://regenboogkerk.nl/wp-content/uploads/2022/07/Regenboog-wandeling.jpg
END:VEVENT
BEGIN:VEVENT
DTSTART;TZID=Europe/Amsterdam:20260211T100000
DTEND;TZID=Europe/Amsterdam:20260211T110000
DTSTAMP:20260424T211151
CREATED:20260202T080611Z
LAST-MODIFIED:20260202T080611Z
UID:11464-1770804000-1770807600@regenboogkerk.nl
SUMMARY:Koffie Drinken
DESCRIPTION:  \nBeste koffiedrinkers\,\nIedere woensdag van 10 tot 11 uur\nin het Sociaal Lokaal.\nZomaar gezellig bij elkaar met een kopje koffie. \nTot woensdag \nGroeten\, het kosters team\nContact:  06 810 73 087
URL:https://regenboogkerk.nl/agenda/koffie-drinken-13/
CATEGORIES:Activiteiten
ATTACH;FMTTYPE=image/png:https://regenboogkerk.nl/wp-content/uploads/2025/08/Sociaal-lokaal.png
END:VEVENT
BEGIN:VEVENT
DTSTART;TZID=Europe/Amsterdam:20260211T143000
DTEND;TZID=Europe/Amsterdam:20260211T170000
DTSTAMP:20260424T211151
CREATED:20260110T095227Z
LAST-MODIFIED:20260110T095227Z
UID:11411-1770820200-1770829200@regenboogkerk.nl
SUMMARY:Seniorencontact
DESCRIPTION:Zie NF 6 \nSeniorencontact\nFijn om elkaar weer te ontmoeten in 2026\nen dat kan op;\n*woensdag 14 januari Cees Wittekoek\nWat heeft Piet Hein voor ons land betekend?\n*woensdag 11 februari Theo Somsen\nStripfiguren\n*woensdag 11 maart Piet van Oosten\n(onder voorbehoud)\nLanding D-day door Canadees leger 1944\n*woensdag 1 april Paaslunch\n*woensdag 13 mei uitstapje\nVoel u welkom in de Goede Herderkerk\nom 14u30!\nWarme groet\, Ella\, Sita en Helga
URL:https://regenboogkerk.nl/agenda/seniorencontact-2/
LOCATION:Goede Herderkerk Epe\, Enkweg 2\, Epe\, 8162VW\, Nederland
CATEGORIES:Activiteiten
ATTACH;FMTTYPE=image/jpeg:https://regenboogkerk.nl/wp-content/uploads/2022/08/senioren.jpg
END:VEVENT
BEGIN:VEVENT
DTSTART;TZID=Europe/Amsterdam:20260218T100000
DTEND;TZID=Europe/Amsterdam:20260218T110000
DTSTAMP:20260424T211151
CREATED:20260202T080633Z
LAST-MODIFIED:20260202T080633Z
UID:11466-1771408800-1771412400@regenboogkerk.nl
SUMMARY:Koffie Drinken
DESCRIPTION:  \nBeste koffiedrinkers\,\nIedere woensdag van 10 tot 11 uur\nin het Sociaal Lokaal.\nZomaar gezellig bij elkaar met een kopje koffie. \nTot woensdag \nGroeten\, het kosters team\nContact:  06 810 73 087
URL:https://regenboogkerk.nl/agenda/koffie-drinken-16/
CATEGORIES:Activiteiten
ATTACH;FMTTYPE=image/png:https://regenboogkerk.nl/wp-content/uploads/2025/08/Sociaal-lokaal.png
END:VEVENT
BEGIN:VEVENT
DTSTART;TZID=Europe/Amsterdam:20260225T100000
DTEND;TZID=Europe/Amsterdam:20260225T110000
DTSTAMP:20260424T211151
CREATED:20260202T080652Z
LAST-MODIFIED:20260202T080652Z
UID:11468-1772013600-1772017200@regenboogkerk.nl
SUMMARY:Koffie Drinken
DESCRIPTION:  \nBeste koffiedrinkers\,\nIedere woensdag van 10 tot 11 uur\nin het Sociaal Lokaal.\nZomaar gezellig bij elkaar met een kopje koffie. \nTot woensdag \nGroeten\, het kosters team\nContact:  06 810 73 087
URL:https://regenboogkerk.nl/agenda/koffie-drinken-17/
CATEGORIES:Activiteiten
ATTACH;FMTTYPE=image/png:https://regenboogkerk.nl/wp-content/uploads/2025/08/Sociaal-lokaal.png
END:VEVENT
END:VCALENDAR