BEGIN:VCALENDAR
VERSION:2.0
PRODID:-//Regenboogkerk Epe - ECPv6.15.20//NONSGML v1.0//EN
CALSCALE:GREGORIAN
METHOD:PUBLISH
X-WR-CALNAME:Regenboogkerk Epe
X-ORIGINAL-URL:https://regenboogkerk.nl
X-WR-CALDESC:Evenementen voor Regenboogkerk Epe
REFRESH-INTERVAL;VALUE=DURATION:PT1H
X-Robots-Tag:noindex
X-PUBLISHED-TTL:PT1H
BEGIN:VTIMEZONE
TZID:Europe/Amsterdam
BEGIN:DAYLIGHT
TZOFFSETFROM:+0100
TZOFFSETTO:+0200
TZNAME:CEST
DTSTART:20240331T010000
END:DAYLIGHT
BEGIN:STANDARD
TZOFFSETFROM:+0200
TZOFFSETTO:+0100
TZNAME:CET
DTSTART:20241027T010000
END:STANDARD
BEGIN:DAYLIGHT
TZOFFSETFROM:+0100
TZOFFSETTO:+0200
TZNAME:CEST
DTSTART:20250330T010000
END:DAYLIGHT
BEGIN:STANDARD
TZOFFSETFROM:+0200
TZOFFSETTO:+0100
TZNAME:CET
DTSTART:20251026T010000
END:STANDARD
BEGIN:DAYLIGHT
TZOFFSETFROM:+0100
TZOFFSETTO:+0200
TZNAME:CEST
DTSTART:20260329T010000
END:DAYLIGHT
BEGIN:STANDARD
TZOFFSETFROM:+0200
TZOFFSETTO:+0100
TZNAME:CET
DTSTART:20261025T010000
END:STANDARD
END:VTIMEZONE
BEGIN:VEVENT
DTSTART;TZID=Europe/Amsterdam:20251203T100000
DTEND;TZID=Europe/Amsterdam:20251203T110000
DTSTAMP:20260424T235718
CREATED:20251123T125856Z
LAST-MODIFIED:20251123T125856Z
UID:11304-1764756000-1764759600@regenboogkerk.nl
SUMMARY:Koffie Drinken
DESCRIPTION:Zie NF 37\, 38 \nBeste koffiedrinkers\,\nIedere woensdag van 10 tot 11 uur\nin het Sociaal Lokaal.\nZomaar gezellig bij elkaar met een kopje koffie. \nTot woensdag \nGroeten\, het kosters team\nContact:  06 810 73 087
URL:https://regenboogkerk.nl/agenda/koffie-drinken-9/
CATEGORIES:Activiteiten
ATTACH;FMTTYPE=image/png:https://regenboogkerk.nl/wp-content/uploads/2025/08/Sociaal-lokaal.png
END:VEVENT
BEGIN:VEVENT
DTSTART;TZID=Europe/Amsterdam:20251210T143000
DTEND;TZID=Europe/Amsterdam:20251210T163000
DTSTAMP:20260424T235718
CREATED:20250905T112009Z
LAST-MODIFIED:20250905T112009Z
UID:11024-1765377000-1765384200@regenboogkerk.nl
SUMMARY:Seniorencontact (60+)
DESCRIPTION:Zie NF 41 \nin de Goede Herderkerk van 14u30 tot 16u30\nvoor een heerlijk bakkie met wat lekkers en een gezellige en informatieve middag.\n➢ 10 september\,\nfam. Neeleman\, Oeganda\, het groene hart van Afrika\n➢ 8 oktober\,\nWillemien Bomhof\, Hoedenpraat\n➢ 12 november\nTheo Somsen\, Stripverhalen\n➢ 10 december\nKerst met Willemien Hilberink
URL:https://regenboogkerk.nl/agenda/seniorencontact-60-6/
CATEGORIES:Activiteiten
ATTACH;FMTTYPE=image/jpeg:https://regenboogkerk.nl/wp-content/uploads/2022/08/senioren.jpg
END:VEVENT
BEGIN:VEVENT
DTSTART;TZID=Europe/Amsterdam:20251212T100000
DTEND;TZID=Europe/Amsterdam:20251212T150000
DTSTAMP:20260424T235718
CREATED:20251206T184615Z
LAST-MODIFIED:20251206T184615Z
UID:11335-1765533600-1765551600@regenboogkerk.nl
SUMMARY:Kerstattenties
DESCRIPTION:Zie NF 2 \nKerstattenties
URL:https://regenboogkerk.nl/agenda/kerstattenties/
CATEGORIES:Activiteiten
ATTACH;FMTTYPE=image/jpeg:https://regenboogkerk.nl/wp-content/uploads/2024/11/Kerststukje.jpg
END:VEVENT
BEGIN:VEVENT
DTSTART;TZID=Europe/Amsterdam:20251213T100000
DTEND;TZID=Europe/Amsterdam:20251213T120000
DTSTAMP:20260424T235718
CREATED:20251206T184712Z
LAST-MODIFIED:20251206T184712Z
UID:11337-1765620000-1765627200@regenboogkerk.nl
SUMMARY:Kerstattenties
DESCRIPTION:Zie NF 2 \nKerstattenties
URL:https://regenboogkerk.nl/agenda/kerstattenties-2/
CATEGORIES:Activiteiten
ATTACH;FMTTYPE=image/jpeg:https://regenboogkerk.nl/wp-content/uploads/2024/11/Kerststukje.jpg
END:VEVENT
BEGIN:VEVENT
DTSTART;TZID=Europe/Amsterdam:20251213T100000
DTEND;TZID=Europe/Amsterdam:20251213T143000
DTSTAMP:20260424T235718
CREATED:20251128T120850Z
LAST-MODIFIED:20251128T120916Z
UID:11317-1765620000-1765636200@regenboogkerk.nl
SUMMARY:Verkoop kerststukken
DESCRIPTION:Zie NF 1 \nVerkoop kerststukken\nDe verkoop van kerststukken van de\ngezamenlijke ZWO commissies vindt dit jaar\nplaats op:\nzaterdag 13 december.\nDe opbrengst van deze verkoop is bestemd voor\nhet gezamenlijke project van de ZWO commissies van de Goede Herderkerk\,\nde Regenboogkerk en de Grote Kerk in Epe.\nDe leden van de bloemengroepen van deze drie\nkerken maken voor deze actie weer\nkerststukken\, die er feestelijk uit zien en goed\nbetaalbaar zijn.\nDe verkoop vindt plaats bij de Grote Kerk aan de\nHoofdstraat in Epe van 10.00u tot 14.30u.
URL:https://regenboogkerk.nl/agenda/verkoop-kerststukken/
CATEGORIES:Activiteiten
ATTACH;FMTTYPE=image/jpeg:https://regenboogkerk.nl/wp-content/uploads/2024/11/Kerststukje.jpg
END:VEVENT
BEGIN:VEVENT
DTSTART;TZID=Europe/Amsterdam:20251216T143000
DTEND;TZID=Europe/Amsterdam:20251216T153000
DTSTAMP:20260424T235718
CREATED:20251206T183613Z
LAST-MODIFIED:20251206T183613Z
UID:11329-1765895400-1765899000@regenboogkerk.nl
SUMMARY:Kerst zangmiddag voor ouderen
DESCRIPTION:Zie NF 2 \nKerst zangmiddag voor ouderen – Grote Kerk Epe\nSamen zingen verbindt en zo willen we ons samen voorbereiden op Kerst!\nOp dinsdag 16 december zijn ouderen harte welkom in de Grote Kerk in Epe (Beekstraat 1a\, toreningang) voor een kerstzangmiddag.\nWe beginnen om 14.30 uur
URL:https://regenboogkerk.nl/agenda/kerst-zangmiddag-voor-ouderen/
CATEGORIES:Activiteiten
ATTACH;FMTTYPE=image/jpeg:https://regenboogkerk.nl/wp-content/uploads/2024/01/zingen-koor.jpg
END:VEVENT
BEGIN:VEVENT
DTSTART;TZID=Europe/Amsterdam:20251219T194500
DTEND;TZID=Europe/Amsterdam:20251219T203000
DTSTAMP:20260424T235718
CREATED:20251214T130542Z
LAST-MODIFIED:20251214T130727Z
UID:11361-1766173500-1766176200@regenboogkerk.nl
SUMMARY:holy muscles & mind
DESCRIPTION:Zie NF 3 \nSpeciale kersteditie:\nKom sporten mét een gast! 19 december\nWie daag jij uit om met je mee te gaan?\nJe vader/moeder/vriend of vriendin?\nWees welkom bij Het Sociaal Lokaal\,\ninloop vanaf 19:45 uur\nmet koffie/thee. Mirjam BakkerSpeciale kersteditie:\nKom sporten mét een gast!\nWie daag jij uit om met je mee te gaan?\nJe vader/moeder/vriend of vriendin?\nWees welkom bij Het Sociaal Lokaal\,\ninloop vanaf 19:45 uur met koffie/thee. \nMirjam Bakker
URL:https://regenboogkerk.nl/agenda/11361/
LOCATION:Sociaal Lokaal
CATEGORIES:Activiteiten
ATTACH;FMTTYPE=image/png:https://regenboogkerk.nl/wp-content/uploads/2025/08/Sociaal-lokaal.png
END:VEVENT
END:VCALENDAR