BEGIN:VCALENDAR
VERSION:2.0
PRODID:-//Regenboogkerk Epe - ECPv6.15.20//NONSGML v1.0//EN
CALSCALE:GREGORIAN
METHOD:PUBLISH
X-WR-CALNAME:Regenboogkerk Epe
X-ORIGINAL-URL:https://regenboogkerk.nl
X-WR-CALDESC:Evenementen voor Regenboogkerk Epe
REFRESH-INTERVAL;VALUE=DURATION:PT1H
X-Robots-Tag:noindex
X-PUBLISHED-TTL:PT1H
BEGIN:VTIMEZONE
TZID:Europe/Amsterdam
BEGIN:DAYLIGHT
TZOFFSETFROM:+0100
TZOFFSETTO:+0200
TZNAME:CEST
DTSTART:20240331T010000
END:DAYLIGHT
BEGIN:STANDARD
TZOFFSETFROM:+0200
TZOFFSETTO:+0100
TZNAME:CET
DTSTART:20241027T010000
END:STANDARD
BEGIN:DAYLIGHT
TZOFFSETFROM:+0100
TZOFFSETTO:+0200
TZNAME:CEST
DTSTART:20250330T010000
END:DAYLIGHT
BEGIN:STANDARD
TZOFFSETFROM:+0200
TZOFFSETTO:+0100
TZNAME:CET
DTSTART:20251026T010000
END:STANDARD
BEGIN:DAYLIGHT
TZOFFSETFROM:+0100
TZOFFSETTO:+0200
TZNAME:CEST
DTSTART:20260329T010000
END:DAYLIGHT
BEGIN:STANDARD
TZOFFSETFROM:+0200
TZOFFSETTO:+0100
TZNAME:CET
DTSTART:20261025T010000
END:STANDARD
END:VTIMEZONE
BEGIN:VEVENT
DTSTART;TZID=Europe/Amsterdam:20251105T100000
DTEND;TZID=Europe/Amsterdam:20251105T110000
DTSTAMP:20260425T013226
CREATED:20251123T125824Z
LAST-MODIFIED:20251123T125824Z
UID:11302-1762336800-1762340400@regenboogkerk.nl
SUMMARY:Koffie Drinken
DESCRIPTION:Zie NF 37\, 38 \nBeste koffiedrinkers\,\nIedere woensdag van 10 tot 11 uur\nin het Sociaal Lokaal.\nZomaar gezellig bij elkaar met een kopje koffie. \nTot woensdag \nGroeten\, het kosters team\nContact:  06 810 73 087
URL:https://regenboogkerk.nl/agenda/koffie-drinken-8/
CATEGORIES:Activiteiten
ATTACH;FMTTYPE=image/png:https://regenboogkerk.nl/wp-content/uploads/2025/08/Sociaal-lokaal.png
END:VEVENT
BEGIN:VEVENT
DTSTART;VALUE=DATE:20251108
DTEND;VALUE=DATE:20251116
DTSTAMP:20260425T013226
CREATED:20250905T105855Z
LAST-MODIFIED:20250905T105855Z
UID:11007-1762560000-1763251199@regenboogkerk.nl
SUMMARY:vakantieweek in het Nieuw Hydepark te Doorn
DESCRIPTION:Zie Antenne 8 \nOok dit najaar is het weer tijd voor onze jaarlijkse jam/honing/wijnactie ten behoeve van de vakantieweek in het Nieuw Hydepark. \nDe vakantieweek die dit jaar\, voor de 43 ste keer wordt gehouden van 8 t/m 15 november\,  is bedoeld voor mensen die moeilijk alleen met vakantie kunnen. \nZij kunnen alleen of met hun partner een weekje geweldig genieten.
URL:https://regenboogkerk.nl/agenda/vakantieweek-in-het-nieuw-hydepark-te-doorn/
CATEGORIES:Activiteiten
ATTACH;FMTTYPE=image/jpeg:https://regenboogkerk.nl/wp-content/uploads/2021/04/Nieuw-Hydepark-Doorn-e1618521035983.jpg
END:VEVENT
BEGIN:VEVENT
DTSTART;TZID=Europe/Amsterdam:20251109T140000
DTEND;TZID=Europe/Amsterdam:20251109T153000
DTSTAMP:20260425T013226
CREATED:20251003T193642Z
LAST-MODIFIED:20251101T162622Z
UID:11143-1762696800-1762702200@regenboogkerk.nl
SUMMARY:Regenboogwandelingen
DESCRIPTION:Zie NF 45 / 49 \nData komende Regenboogwandelingen\nOp zondagmiddag 9 november is een\ninteressante wandeling gepland.\nRegenboogwandeling elke tweede zondag van de maand.\nEen historische wandeling naar het landgoed Morena en naar het helikopter vliegveld Epe.\nEen groet van Rieneke Tibben-Groen
URL:https://regenboogkerk.nl/agenda/regenboogwandelingen/
CATEGORIES:Activiteiten
ATTACH;FMTTYPE=image/jpeg:https://regenboogkerk.nl/wp-content/uploads/2022/07/Regenboog-wandeling.jpg
END:VEVENT
BEGIN:VEVENT
DTSTART;TZID=Europe/Amsterdam:20251112T143000
DTEND;TZID=Europe/Amsterdam:20251112T163000
DTSTAMP:20260425T013226
CREATED:20250905T111949Z
LAST-MODIFIED:20250905T111949Z
UID:11022-1762957800-1762965000@regenboogkerk.nl
SUMMARY:Seniorencontact (60+)
DESCRIPTION:Zie NF 41 \nin de Goede Herderkerk van 14u30 tot 16u30\nvoor een heerlijk bakkie met wat lekkers en een gezellige en informatieve middag.\n➢ 10 september\,\nfam. Neeleman\, Oeganda\, het groene hart van Afrika\n➢ 8 oktober\,\nWillemien Bomhof\, Hoedenpraat\n➢ 12 november\nTheo Somsen\, Stripverhalen\n➢ 10 december\nKerst met Willemien Hilberink
URL:https://regenboogkerk.nl/agenda/seniorencontact-60-3/
CATEGORIES:Activiteiten
ATTACH;FMTTYPE=image/jpeg:https://regenboogkerk.nl/wp-content/uploads/2022/08/senioren.jpg
END:VEVENT
BEGIN:VEVENT
DTSTART;TZID=Europe/Amsterdam:20251127T193000
DTEND;TZID=Europe/Amsterdam:20251127T213000
DTSTAMP:20260425T013226
CREATED:20251121T214520Z
LAST-MODIFIED:20251121T214520Z
UID:11257-1764271800-1764279000@regenboogkerk.nl
SUMMARY:Avond met Zin en Kleur
DESCRIPTION:Zie NF 52. \nDeze Avond met Zin en Kleur wordt donderdag\n27 november gehouden in de Goede Herderkerk\,\nEnkweg 2\, Epe.\nWe starten om 19.30 uur en de inloop is vanaf\n19.00 uur. U bent van harte welkom!
URL:https://regenboogkerk.nl/agenda/avond-met-zin-en-kleur-2/
LOCATION:Goede Herderkerk Epe\, Enkweg 2\, Epe\, 8162VW\, Nederland
CATEGORIES:Activiteiten
ATTACH;FMTTYPE=image/jpeg:https://regenboogkerk.nl/wp-content/uploads/2025/09/Avonden-met-Zin-en-Kleur.jpg
END:VEVENT
BEGIN:VEVENT
DTSTART;TZID=Europe/Amsterdam:20251129T183000
DTEND;TZID=Europe/Amsterdam:20251129T220000
DTSTAMP:20260425T013226
CREATED:20251001T081439Z
LAST-MODIFIED:20251001T081540Z
UID:11098-1764441000-1764453600@regenboogkerk.nl
SUMMARY:RUNNING DINNER
DESCRIPTION:Zie Antenne nr 9. \nHet RUNNING DINNER is op zaterdag 29 november 2025:
URL:https://regenboogkerk.nl/agenda/running-dinner/
CATEGORIES:Activiteiten
ATTACH;FMTTYPE=image/jpeg:https://regenboogkerk.nl/wp-content/uploads/2022/08/Running-dinner.jpg
END:VEVENT
END:VCALENDAR